BEGIN:VCALENDAR
VERSION:2.0
PRODID:-//Minnesota Children&#039;s Alliance - ECPv6.15.17.1//NONSGML v1.0//EN
CALSCALE:GREGORIAN
METHOD:PUBLISH
X-ORIGINAL-URL:https://minnesotachildrensalliance.org
X-WR-CALDESC:Events for Minnesota Children&#039;s Alliance
REFRESH-INTERVAL;VALUE=DURATION:PT1H
X-Robots-Tag:noindex
X-PUBLISHED-TTL:PT1H
BEGIN:VTIMEZONE
TZID:America/Chicago
BEGIN:DAYLIGHT
TZOFFSETFROM:-0600
TZOFFSETTO:-0500
TZNAME:CDT
DTSTART:20230312T080000
END:DAYLIGHT
BEGIN:STANDARD
TZOFFSETFROM:-0500
TZOFFSETTO:-0600
TZNAME:CST
DTSTART:20231105T070000
END:STANDARD
BEGIN:DAYLIGHT
TZOFFSETFROM:-0600
TZOFFSETTO:-0500
TZNAME:CDT
DTSTART:20240310T080000
END:DAYLIGHT
BEGIN:STANDARD
TZOFFSETFROM:-0500
TZOFFSETTO:-0600
TZNAME:CST
DTSTART:20241103T070000
END:STANDARD
BEGIN:DAYLIGHT
TZOFFSETFROM:-0600
TZOFFSETTO:-0500
TZNAME:CDT
DTSTART:20250309T080000
END:DAYLIGHT
BEGIN:STANDARD
TZOFFSETFROM:-0500
TZOFFSETTO:-0600
TZNAME:CST
DTSTART:20251102T070000
END:STANDARD
END:VTIMEZONE
BEGIN:VEVENT
DTSTART;TZID=America/Chicago:20241121T120000
DTEND;TZID=America/Chicago:20241121T133000
DTSTAMP:20260425T153151
CREATED:20241014T210609Z
LAST-MODIFIED:20241014T210609Z
UID:10000963-1732190400-1732195800@minnesotachildrensalliance.org
SUMMARY:CalTrin | Pause\, Reset\, Noursih: A Framkework to Foister Wellness in the Midst of Challenging Work
DESCRIPTION:Training Overview\nChallenging traditional organizational wellness approaches\, this training will explore Pause\, Reset\, Nourish (PRN). PRN is a framework that is grounded in neuroscience and utilizes a variety of evidence-informed practices. It is flexible\, easy to implement\, and appropriate for fast-paced environments. This simple\, workflow-integrated framework utilizes practical tools to optimize overall health\, positive relationships\, and career sustainability while engaging in trauma-exposed work. \nLearning Objectives\n\nDescribe the PRN framework\, its three components\, and how it is utilized within the flow of work\nName five or more micro-practices designed to recalibrate individuals and teams that can be incorporated into their specific work environment\nTransform their understanding of self-care as it applies to fast-paced\, trauma-exposed work environments\n\nRegister Through CalTrin\n 
URL:https://minnesotachildrensalliance.org/training/caltrin-pause-reset-noursih-a-framkework-to-foister-wellness-in-the-midst-of-challenging-work/
LOCATION:Online Webinar
CATEGORIES:Children's Advocacy Centers,Medical,Mental Health,Multidisciplinary teams
END:VEVENT
BEGIN:VEVENT
DTSTART;TZID=America/Chicago:20241119T160000
DTEND;TZID=America/Chicago:20241119T180000
DTSTAMP:20260425T153151
CREATED:20240930T153808Z
LAST-MODIFIED:20240930T153808Z
UID:10000939-1732032000-1732039200@minnesotachildrensalliance.org
SUMMARY:CalTrin Social & Emotional Competence of Children
DESCRIPTION:Training Overview\nThis training session will discuss everyday strategies for helping children build social and emotional competence. \nLearning Objectives\n\nReview how helping children develop social and emotional competence helps keep families strong and prevents child abuse and neglect.\nIdentify key strategies and everyday actions that help children grow emotionally and socially.\nExplore what it means to help children develop social and emotional skills in a strength-based way.\nShare Protective Factors resources for providers and families.\n\nRequired Pre-Work\n\nReview the Center for the Study of Social Policy Strengthening Families website\nRead About Strengthening Families and the Strengthening Families Framework (2pp)\nReview The Strengthening Families Protective Factors Framework Handout (CSSP)\nWatch “Why Does it Matter?” an overview of Social Emotional Competence (Children’s Bureau Learning and Coordination Center)\n\nRegister Through CalTrin\n 
URL:https://minnesotachildrensalliance.org/training/caltrin-social-emotional-competence-of-children/
LOCATION:Online Webinar
CATEGORIES:Advocacy,Children's Advocacy Centers,Medical,Mental Health,Multidisciplinary teams,Problematic Sexual Behaviors
END:VEVENT
BEGIN:VEVENT
DTSTART;TZID=America/Chicago:20241112T140000
DTEND;TZID=America/Chicago:20241112T153000
DTSTAMP:20260425T153151
CREATED:20240927T183510Z
LAST-MODIFIED:20240927T183510Z
UID:10000938-1731420000-1731425400@minnesotachildrensalliance.org
SUMMARY:CalTrin Get Grant Ready
DESCRIPTION:Training Overview\nGet Grant Ready is tailored to nonprofits and focuses on preparing them to secure funding through grants. This comprehensive training session equips participants with the knowledge and tools to assess and strengthen their nonprofit’s readiness to attract funding. Through interactive discussions\, real-life case studies\, and hands-on exercises\, attendees will learn to evaluate their nonprofit’s current state\, identify potential barriers to securing grants\, and develop targeted strategies to overcome any deficiencies or challenges. \nLearning Objectives\n\nAssess Organizational Readiness: The workshop will enable participants to assess their nonprofit organization’s current readiness for funding\, with a focus on grant funding. This includes evaluating leadership alignment\, resource allocation\, program effectiveness\, and community engagement to identify strengths and areas for improvement.\nDevelop Customized Funding Strategies: Participants will learn how to craft tailored funding strategies specific to their nonprofit’s needs and objectives. This includes creating targeted communication plans\, building relationships with potential funders\, and leveraging technology and data to enhance grant application success.\nCreate Actionable Roadmaps: The workshop will empower attendees to develop actionable roadmaps for improving their nonprofit’s readiness for funding over a defined timeline. Participants will leave with a clear plan outlining steps\, responsibilities\, and milestones to ensure sustained growth and successful grant acquisition.\n\nWho Should Attend: Staff\, consultants\, and volunteers of family-resource centers\, community-based organizations\, Child Abuse Prevention Councils and other child- and family-serving systems who are new to grant writing or not meeting with grant fundraising success; Leaders of newly established organizations; board members. \nRegister through CalTrin\nThis is an interactive training. Please be prepared to participate in activities such as group discussion\, break out rooms\, and/or demonstration. Your training experience will be best with the use of a web cam\, audio\, and a training environment conducive to active participation. \nThis training will be recorded. The recording will be available to registered learners within 2 days of the training. \nThis is a small-group training. Spaces are limited space and there may be a waiting list. Preference will be given to applicants from California. All applicants will be contacted by the week of October 21\, 2024. \nCalTrin “No Show” Policy: CalTrin workshops often have limited spaces and waiting lists. Due to the cost of training and time associated with planning each CalTrin workshop\, confirmed participants are expected to attend for the full duration. Confirmed participants who do not attend training and do not contact CalTrin in advance may not be selected for future application-based workshops. \nCalifornia privacy laws mandate consent for recording conversations using AI applications. To ensure a respectful and secure learning environment for all participants\, AI assistants are not allowed in CalTrin training. We value an accessible learning environment. If you require an accommodation to support your learning\, please email us at least three business days before the training. \nBy registering for a CalTrin training\, you consent to be added to the CalTrin mailing list.
URL:https://minnesotachildrensalliance.org/training/caltrin-get-grant-ready/
LOCATION:Online Webinar
CATEGORIES:Children's Advocacy Centers
END:VEVENT
BEGIN:VEVENT
DTSTART;TZID=America/Chicago:20241107T120000
DTEND;TZID=America/Chicago:20241107T133000
DTSTAMP:20260425T153151
CREATED:20241014T211043Z
LAST-MODIFIED:20241014T211043Z
UID:10000964-1730980800-1730986200@minnesotachildrensalliance.org
SUMMARY:CalTrin | Problematic Sexual Behaviors in Children and Adolescents: The Do's and Don'ts for the Criminal Justice System
DESCRIPTION:Training Overview\nWhen a child or adolescent sexually acts out it can be a scary experience for not just a parent\, but also for the provider working with the family\, especially if the child is justice system involved.  This webinar will first correct common myths and misconceptions about children who sexually act out (e.g.\, the supermajority of these children are highly responsive to treatment and are NOT pedophiles). \nThe second aspect of this webinar will be a walk-through of the evidence for how to treat these children and the likelihood of success (e.g.\, with appropriate\, evidence-based practices children 3 to 18 who engage in these behaviors are up to 95% successful in treatment and do not sexually reoffend again).  Finally\, the last part of this presentation will tie parts one and two together to answer the question of how providers in the criminal justice system can best help these families as well as keep the community and public safe. \nDuring this webinar\, participants will discuss: \n\nThe “rules of thumb” for addressing problematic sexual behaviors (PSBs) in youth.\nMethods that are contraindicated and counter-therapeutic for intervening in youth with PSBs.\nSpecific resources (e.g.\, NCSBY) and interventions (e.g.\, PSB-CBT) that are effective in helping youth and families impacted by PSBs.\n\nRegister Through CalTrin\n 
URL:https://minnesotachildrensalliance.org/training/caltrin-problematic-sexual-behaviors-in-children-and-adolescents-the-dos-and-donts-for-the-criminal-justice-system/
LOCATION:Online Webinar
CATEGORIES:Children's Advocacy Centers,Court,Forensic Interview,Investigation,Medical,Mental Health,Online Webinar,Problematic Sexual Behaviors
END:VEVENT
BEGIN:VEVENT
DTSTART;TZID=America/Chicago:20241016T130000
DTEND;TZID=America/Chicago:20241016T143000
DTSTAMP:20260425T153151
CREATED:20240927T182427Z
LAST-MODIFIED:20240927T182427Z
UID:10000937-1729083600-1729089000@minnesotachildrensalliance.org
SUMMARY:CalTrin The Cannabis landscape: Public Health and Policy Implications
DESCRIPTION:Training Overview\nThis presentation will provide a background in how cannabis products have evolved in the wake of legalization in many U.S. states\, including descriptions of different modes of use\, changing THC content\, and market trends. The problem of unregulated hemp-derived products\, such as Δ8-THC\, will be touched on. The presenter will describe how cannabis use impacts physical and mental health\, who is at greatest risk of harm\, and how policy changes and consumer education could help reduce risks. \nLearning Objectives \n\nRecognize at least three types of cannabis products available in legal adult consumer markets in the U.S.\nDescribe three ways in which cannabis use affects health\nDiscuss different cannabis policies that could reduce harm from use\n\nRegister through CalTrin\n 
URL:https://minnesotachildrensalliance.org/training/caltrin-the-cannabis-landscape-public-health-and-policy-implications/
LOCATION:Online Webinar
CATEGORIES:Advocacy,Children's Advocacy Centers,Forensic Interview,Investigation,Medical,Mental Health,Multidisciplinary teams,Online Webinar,Statute
END:VEVENT
BEGIN:VEVENT
DTSTART;TZID=America/Chicago:20241015T160000
DTEND;TZID=America/Chicago:20241015T180000
DTSTAMP:20260425T153151
CREATED:20240927T180816Z
LAST-MODIFIED:20240927T182549Z
UID:10000936-1729008000-1729015200@minnesotachildrensalliance.org
SUMMARY:CalTrin Concrete Support
DESCRIPTION:Training Overview\nDuring this session\, we will discuss everyday strategies for increasing access to concrete support for families. This session will be presented in an engaging lecture format. \nLearning Objectives\n\nReview how Concrete Support helps keep families strong and prevents child abuse and neglect\nIdentify key strategies and everyday actions that help families access Concrete Support\nExplore what it means to help families develop tools and skills in a strengths-based way\nShare Protective Factors resources for providers and families\n\nPre-Work\n\nReview the Center for the Study of Social Policy Strengthening Families website\nRead about Strengthening Families and the Strengthening Families Framework (CSSP) (2pp)\nReview The Strengthening Families Protective Factors Framework Handout (CSSP)\n\nRegister through CalTrin\n 
URL:https://minnesotachildrensalliance.org/training/caltrin-concrete-support/
LOCATION:Online Webinar
CATEGORIES:Advocacy,Children's Advocacy Centers,Investigation,Medical,Mental Health,Multidisciplinary teams,Online Webinar
END:VEVENT
BEGIN:VEVENT
DTSTART;TZID=America/Chicago:20241008T113000
DTEND;TZID=America/Chicago:20241008T143000
DTSTAMP:20260425T153151
CREATED:20240927T175807Z
LAST-MODIFIED:20240927T175807Z
UID:10000935-1728387000-1728397800@minnesotachildrensalliance.org
SUMMARY:CalTrin Expanding Social Supports to Achieve Better Outcomes
DESCRIPTION:Training Overview\nDid you know that having social connection and support in your life makes you live 3.7 years longer than someone without support? Come to the Social Support workshop to learn what you can do to increase your lifespan and have a happier and healthier life. During this fun and interactive workshop\, you will learn about why we all need support in our lives. You will also utilize hands-on tools to assess\, plan for\, and develop social connections and support. Practical tools and techniques will be shared during the training to promote the expansion of support systems and connections. Typically\, system professionals do not recognize the development of support systems as an important component of their role. When families are struggling\, access to support is often the answer to success. This training is ideal for anyone working with youth and families that could benefit from creating a robust support system. \nParticipants will \n\nUnderstand the value and benefits of social support\nUtilize tools to assess social support\nPractice skills to enhance social support\n\nWho should attend: All staff of family resource centers (FRCs)\, child abuse prevention councils (CAPCs)\, community-based organizations\, and other child- and family-serving systems. \nPre-Work \nWatch You Can Save Someone’s Life Today | Dr. Julie Radlauer-Doerfler | TEDxMiami (12:51) \nRegister through CalTrin\nThis is an interactive training. Please be prepared to participate in activities such as group discussion\, break out rooms\, and/or demonstration. Your training experience will be best with the use of a web cam\, audio\, and a training environment conducive to active participation. \nThis training will NOT be recorded. \nCalifornia privacy laws mandate consent for recording conversations using AI applications. To ensure a respectful and secure learning environment for all participants\, AI assistants are not allowed in CalTrin training. We value an accessible learning environment. If you require an accommodation to support your learning\, please email us at least three business days before the training. \nBy registering for a CalTrin training\, you consent to be added to the CalTrin mailing list.
URL:https://minnesotachildrensalliance.org/training/caltrin-expanding-social-supports-to-achieve-better-outcomes/
LOCATION:Online Webinar
CATEGORIES:Advocacy,Children's Advocacy Centers,Forensic Interview,Investigation,Medical,Mental Health,Multidisciplinary teams,Online Webinar
END:VEVENT
BEGIN:VEVENT
DTSTART;TZID=America/Chicago:20240327T160000
DTEND;TZID=America/Chicago:20240327T173000
DTSTAMP:20260425T153151
CREATED:20240227T184711Z
LAST-MODIFIED:20240227T184711Z
UID:10000733-1711555200-1711560600@minnesotachildrensalliance.org
SUMMARY:CalTrin Engaging Indigenous Families and Communities
DESCRIPTION:Training Overview\nThis two-part training is for service providers seeking to engage and build relationships with Indigenous families and communities. Through a framework of levels of relationship\, participants will explore the concept of engagement as it pertains to tribal communities and examine how understanding of engagement may differ depending on the cultural context and level of collaboration. Participants will learn strategies to advance engagement with the indigenous families and communities they work with. \nLearners will:\n\nDescribe Indigenous cultural contexts and how they are distinct.\nDescribe and understand the importance of tribal sovereignty and the 4 R’s in working with tribal communities. \nDefine engagement within different cultural worldviews.\nIdentify Indigenous family and community engagement strategies and how these differ from engaging tribal organizations.\nAssess current practice in engaging Indigenous families and communities.\nExplore tools and resources to aid in engagement.\n\nRegister through Caltrin
URL:https://minnesotachildrensalliance.org/training/caltrin-engaging-indigenous-families-and-communities/2024-03-27/
LOCATION:Online Webinar
CATEGORIES:Advocacy,Children's Advocacy Centers,Culture,Equity,Forensic Interview,Investigation,Medical,Mental Health,Multidisciplinary teams,Online Webinar,Trauma-Informed Practice
END:VEVENT
BEGIN:VEVENT
DTSTART;TZID=America/Chicago:20240326T160000
DTEND;TZID=America/Chicago:20240326T180000
DTSTAMP:20260425T153151
CREATED:20240304T230536Z
LAST-MODIFIED:20240304T230536Z
UID:10000738-1711468800-1711476000@minnesotachildrensalliance.org
SUMMARY:CalTrin When Trauma Reactions & Neurodevelopmental Disorders Overlap
DESCRIPTION:Training Overview\nThis training will review characteristics of trauma-related disorders and neurodevelopmental disorders (e.g.\, autism spectrum disorder\, ADHD) in children ages birth through 5 years. We will review complex presentations and highlight the overlap and distinctions. We will also explain how broadening your perspective can help you to understand a child’s needs and link families to appropriate services to promote positive outcomes. \nParticipants will\n\nExamine the overlap between neurodevelopmental disorders and trauma\nExplain why trauma-informed and developmentally informed approaches to working with children with developmental\, social-emotional\, and behavioral concerns are important for positive outcomes\nExamine the importance of flexible perspectives and the value of treatment over time in understanding a child’s needs\nLook at appropriate evidence-informed options for therapy\n\nWho should attend \nAll staff of family resource center (FRCs)\, child abuse prevention councils (CAPCs)\, community-based organizations\, and other child- and family-serving systems. \nImportant Training Information\n\nThis is an interactive training. Please be prepared to participate in activities such as group discussion\, break out rooms\, and/or demonstration. Your training experience will be best with the use of a web cam\, audio\, and a training environment conducive to active participation.\nThis training will be recorded. The recording will be available to registered learners within 2 days of the training.\nBy registering for a CalTrin training\, you consent to be added to the CalTrin mailing list.\n\nTraining Pre-Work\n\nVisit ACEs Aware and review the information found in the “ACE Fundamentals” and “Learn About Screening” sections\nRead Misdiagnosis and Missed Diagnoses in Foster and Adopted Children with Prenatal Alcohol Exposure (6 pp)\n\nRegister through CalTrin\n 
URL:https://minnesotachildrensalliance.org/training/caltrin-when-trauma-reactions-neurodevelopmental-disorders-overlap/
LOCATION:Online Webinar
CATEGORIES:Advocacy,Children's Advocacy Centers,Investigation,Medical,Mental Health,Multidisciplinary teams,Online Webinar,Research,Trauma-Informed Practice
END:VEVENT
BEGIN:VEVENT
DTSTART;TZID=America/Chicago:20240320T160000
DTEND;TZID=America/Chicago:20240320T173000
DTSTAMP:20260425T153151
CREATED:20240227T184711Z
LAST-MODIFIED:20240227T184711Z
UID:10000732-1710950400-1710955800@minnesotachildrensalliance.org
SUMMARY:CalTrin Engaging Indigenous Families and Communities
DESCRIPTION:Training Overview\nThis two-part training is for service providers seeking to engage and build relationships with Indigenous families and communities. Through a framework of levels of relationship\, participants will explore the concept of engagement as it pertains to tribal communities and examine how understanding of engagement may differ depending on the cultural context and level of collaboration. Participants will learn strategies to advance engagement with the indigenous families and communities they work with. \nLearners will:\n\nDescribe Indigenous cultural contexts and how they are distinct.\nDescribe and understand the importance of tribal sovereignty and the 4 R’s in working with tribal communities. \nDefine engagement within different cultural worldviews.\nIdentify Indigenous family and community engagement strategies and how these differ from engaging tribal organizations.\nAssess current practice in engaging Indigenous families and communities.\nExplore tools and resources to aid in engagement.\n\nRegister through Caltrin
URL:https://minnesotachildrensalliance.org/training/caltrin-engaging-indigenous-families-and-communities/2024-03-20/
LOCATION:Online Webinar
CATEGORIES:Advocacy,Children's Advocacy Centers,Culture,Equity,Forensic Interview,Investigation,Medical,Mental Health,Multidisciplinary teams,Online Webinar,Trauma-Informed Practice
END:VEVENT
BEGIN:VEVENT
DTSTART;TZID=America/Chicago:20240306T150000
DTEND;TZID=America/Chicago:20240306T163000
DTSTAMP:20260425T153151
CREATED:20240301T205932Z
LAST-MODIFIED:20240301T205932Z
UID:10000737-1709737200-1709742600@minnesotachildrensalliance.org
SUMMARY:CalTrin Becoming a Trauma-Informed Leader: Preparing for Change at the Personal & Team Level
DESCRIPTION:Training Overview\nThe last couple of years have been incredibly challenging for leaders who have supported staff throughout a time of profound societal change. Leaders are trying to achieve the ultimate balancing act by ensuring that they continue to provide necessary services to the public\, support their staff with both compassion and accountability\, and take care of themselves. \nThis workshop series is designed to build on the Trauma-informed Leadership webinar from August 2023 through two intensive deep-dive conversations. Part 1 (February 7) will focus on supporting the individual leader to prepare to do this work\, and part 2 (March 6) will focus on supporting leaders to implement this work with their team with a focus on developing safety\, trust\, and boundaries. In each section\, participants will engage in self-assessment and self-reflection activities to identify their areas of strength as well as potential challenges. Participants will be encouraged to share and learn from one another so that they can leave the session with concrete strategies to support their development as trauma-informed leaders. \nRegister through CalTrin
URL:https://minnesotachildrensalliance.org/training/caltrin-becoming-a-trauma-informed-leader-preparing-for-change-at-the-personal-team-level/
LOCATION:Online Webinar
CATEGORIES:Children's Advocacy Centers,Multidisciplinary teams,Trauma-Informed Practice
END:VEVENT
END:VCALENDAR