BEGIN:VCALENDAR
VERSION:2.0
PRODID:-//Minnesota Children&#039;s Alliance - ECPv6.15.17.1//NONSGML v1.0//EN
CALSCALE:GREGORIAN
METHOD:PUBLISH
X-ORIGINAL-URL:https://minnesotachildrensalliance.org
X-WR-CALDESC:Events for Minnesota Children&#039;s Alliance
REFRESH-INTERVAL;VALUE=DURATION:PT1H
X-Robots-Tag:noindex
X-PUBLISHED-TTL:PT1H
BEGIN:VTIMEZONE
TZID:America/Chicago
BEGIN:DAYLIGHT
TZOFFSETFROM:-0600
TZOFFSETTO:-0500
TZNAME:CDT
DTSTART:20230312T080000
END:DAYLIGHT
BEGIN:STANDARD
TZOFFSETFROM:-0500
TZOFFSETTO:-0600
TZNAME:CST
DTSTART:20231105T070000
END:STANDARD
BEGIN:DAYLIGHT
TZOFFSETFROM:-0600
TZOFFSETTO:-0500
TZNAME:CDT
DTSTART:20240310T080000
END:DAYLIGHT
BEGIN:STANDARD
TZOFFSETFROM:-0500
TZOFFSETTO:-0600
TZNAME:CST
DTSTART:20241103T070000
END:STANDARD
BEGIN:DAYLIGHT
TZOFFSETFROM:-0600
TZOFFSETTO:-0500
TZNAME:CDT
DTSTART:20250309T080000
END:DAYLIGHT
BEGIN:STANDARD
TZOFFSETFROM:-0500
TZOFFSETTO:-0600
TZNAME:CST
DTSTART:20251102T070000
END:STANDARD
END:VTIMEZONE
BEGIN:VEVENT
DTSTART;VALUE=DATE:20240417
DTEND;VALUE=DATE:20240428
DTSTAMP:20260423T193221
CREATED:20240305T211348Z
LAST-MODIFIED:20240305T211705Z
UID:10000798-1713312000-1714262399@minnesotachildrensalliance.org
SUMMARY:Child's Place Bids for Kids Online Auction
DESCRIPTION:Event Description\nChild’s Place is looking for items to be donated to their Bids for Kids auction. This auction will be held online\, and all funds raised will be used to provide direct services for children and families in crisis. \nHow donations help children and their caregivers:\n\nEmergency basic needs or safe housing after abuse\nclothing and supplies for children entering foster care\nSafety and security tools for victims of violence\nTransportation to medical care or mental health services\nTraining events for teachers\, school staff members\, and child abuse professionals\n\nLearn more about Bids For Kids here!\nPlease consider donating gift certificates\, merchandise\, or services. Donations will be accepted through April 15\, 2024.
URL:https://minnesotachildrensalliance.org/training/childs-place-bids-for-kids-online-auction/
LOCATION:Online Webinar
CATEGORIES:Children's Advocacy Centers,Special Events
END:VEVENT
END:VCALENDAR