BEGIN:VCALENDAR
VERSION:2.0
PRODID:-//Minnesota Children&#039;s Alliance - ECPv6.15.17.1//NONSGML v1.0//EN
CALSCALE:GREGORIAN
METHOD:PUBLISH
X-ORIGINAL-URL:https://minnesotachildrensalliance.org
X-WR-CALDESC:Events for Minnesota Children&#039;s Alliance
REFRESH-INTERVAL;VALUE=DURATION:PT1H
X-Robots-Tag:noindex
X-PUBLISHED-TTL:PT1H
BEGIN:VTIMEZONE
TZID:America/Chicago
BEGIN:DAYLIGHT
TZOFFSETFROM:-0600
TZOFFSETTO:-0500
TZNAME:CDT
DTSTART:20250309T080000
END:DAYLIGHT
BEGIN:STANDARD
TZOFFSETFROM:-0500
TZOFFSETTO:-0600
TZNAME:CST
DTSTART:20251102T070000
END:STANDARD
BEGIN:DAYLIGHT
TZOFFSETFROM:-0600
TZOFFSETTO:-0500
TZNAME:CDT
DTSTART:20260308T080000
END:DAYLIGHT
BEGIN:STANDARD
TZOFFSETFROM:-0500
TZOFFSETTO:-0600
TZNAME:CST
DTSTART:20261101T070000
END:STANDARD
BEGIN:DAYLIGHT
TZOFFSETFROM:-0600
TZOFFSETTO:-0500
TZNAME:CDT
DTSTART:20270314T080000
END:DAYLIGHT
BEGIN:STANDARD
TZOFFSETFROM:-0500
TZOFFSETTO:-0600
TZNAME:CST
DTSTART:20271107T070000
END:STANDARD
END:VTIMEZONE
BEGIN:VEVENT
DTSTART;TZID=America/Chicago:20260917T100000
DTEND;TZID=America/Chicago:20260917T113000
DTSTAMP:20260423T020455
CREATED:20260323T193925Z
LAST-MODIFIED:20260323T193925Z
UID:10001534-1789639200-1789644600@minnesotachildrensalliance.org
SUMMARY:First Witness | Normalizing the Conversation: Talking with Families about Body Safety
DESCRIPTION:Training Overview\nIn this session\, we will not only discuss healthy childhood development\, but also go over working with parents and non-offending caregivers as they start to grow their communication skills and normalize talking about body safety with their children. Participants will be informed on what to look for in terms of victim manipulation\, signs of possible child sexual abuse\, and how to support caregivers in learning and understanding this information. \nRegister Through First Witness
URL:https://minnesotachildrensalliance.org/training/first-witness-normalizing-the-conversation-talking-with-families-about-body-safety-2/
LOCATION:Online Webinar
CATEGORIES:Body Safety
ORGANIZER;CN="First Witness":MAILTO:Info@firstwitness.org
END:VEVENT
BEGIN:VEVENT
DTSTART;TZID=America/Chicago:20261006T100000
DTEND;TZID=America/Chicago:20261006T113000
DTSTAMP:20260423T020455
CREATED:20260323T193119Z
LAST-MODIFIED:20260323T193119Z
UID:10001533-1791280800-1791286200@minnesotachildrensalliance.org
SUMMARY:First Witness | Courtroom Advocacy for Non-Legal Advocates
DESCRIPTION:Training Overview\nFor many families that experience child abuse\, pursuing legal action through the court system can be a step in their healing process. As community-based advocates\, ongoing advocacy may include guiding a family through the court system\, whether that involves criminal or civil court proceedings. This training helps participants gain skills and practical tools in how they can support families in the court process. We will also build knowledge on how the court system works and defines court terms that most laypersons may not understand without legal training. \nRegister Through First Witness
URL:https://minnesotachildrensalliance.org/training/first-witness-courtroom-advocacy-for-non-legal-advocates/
LOCATION:Online Webinar
CATEGORIES:Advocacy
ORGANIZER;CN="First Witness":MAILTO:Info@firstwitness.org
END:VEVENT
BEGIN:VEVENT
DTSTART;VALUE=DATE:20261019
DTEND;VALUE=DATE:20261024
DTSTAMP:20260423T020455
CREATED:20260323T193000Z
LAST-MODIFIED:20260323T193000Z
UID:10001532-1792368000-1792799999@minnesotachildrensalliance.org
SUMMARY:First Witness Training for Advocates Working with a CAC
DESCRIPTION:Training Overview\nThis training meets all essential training components in the 2023 National Children’s Alliance (NCA) Standard of Victim Advocacy and has been approved by the NCA. \nFirst Witness Child Advocacy Center’s advocacy program bridges the gap between individual advocacy with one victim and system-based advocacy that creates change for many victims. This contrasts with more restrictive advocacy models that are based on delivering services identified by practitioners and systems rather than victims. \nThrough hands-on practice\, participants will learn how to put advocacy principles into action\, including: \n\nExamining advocacy principles through the lens of their organization\nChanging organizations and systems\, and\nCreating programs and interventions that meet victims’ needs.\n\nParticipants will practice skills for effective crisis intervention and advocacy\, problem-solving\, and decision-making around the toughest issues in advocacy work. \nRegister Through First Witness\n 
URL:https://minnesotachildrensalliance.org/training/first-witness-training-for-advocates-working-with-a-cac-19/
LOCATION:Online Webinar
CATEGORIES:Advocacy
ORGANIZER;CN="First Witness":MAILTO:Info@firstwitness.org
END:VEVENT
BEGIN:VEVENT
DTSTART;TZID=America/Chicago:20261109T100000
DTEND;TZID=America/Chicago:20261109T113000
DTSTAMP:20260423T020455
CREATED:20260323T192746Z
LAST-MODIFIED:20260324T154638Z
UID:10001531-1794218400-1794223800@minnesotachildrensalliance.org
SUMMARY:First Witness | Reading the Room: The Importance of Understanding Body Language in Forensic Interviews
DESCRIPTION:Training Overview\nIn this webinar\, participants will learn about the importance of being able to recognize body language cues in forensic interviews and to what extent they happen subconsciously. We will discuss how body language cues may be dependent on a child’s age\, culture\, and experiences. Paticipants will learn neutral interview statements that can be made when seeing certain body language cues with different age groups. Lastly\, we disscuss subconscious interviewer body language and the possible implications this body language could have on the child being interviewed. Throughout the training\, we will discuss case examples looking at prominent body language cues. \nRegister Through First Witness
URL:https://minnesotachildrensalliance.org/training/first-witness-reading-the-room-the-importance-of-understanding-body-language-in-forensic-interviews/
LOCATION:Online Webinar
CATEGORIES:Forensic Interview
ORGANIZER;CN="First Witness":MAILTO:Info@firstwitness.org
END:VEVENT
BEGIN:VEVENT
DTSTART;VALUE=DATE:20261116
DTEND;VALUE=DATE:20261121
DTSTAMP:20260423T020455
CREATED:20260323T191324Z
LAST-MODIFIED:20260323T191324Z
UID:10001523-1794787200-1795219199@minnesotachildrensalliance.org
SUMMARY:First Witness ChildFirst® Forensic Interview Training
DESCRIPTION:Training Overview\nThe ChildFirst® Forensic Interview Protocol brings the field into the classroom\, enhancing the education of front-line child abuse response professionals. This training is designed for investigative teams of law enforcement officers\, social workers\, prosecutors\, child protection attorneys\, and forensic interviewers. \nStudents receive training on the ChildFirst® Forensic Interview Protocol\, which includes child development\, memory and suggestibility\, testifying in court\, legal issues\, and preparing children for court. This training incorporates lecture and discussion\, review of electronically recorded interviews\, skill-building exercises\, and an interview practicum. \nThe ChildFirst® Forensic Interview Protocol is an NCA-approved forensic interview protocol for accreditation. \nThis training will be held in-person at the First Witness Capstan Training Center in Duluth\, MN. \nRegister Through First Witness
URL:https://minnesotachildrensalliance.org/training/first-witness-childfirst-forensic-interview-training-24/
LOCATION:First Witness\, 1402 E 2nd Street\, Duluth\, MN\, 55805\, United States
CATEGORIES:Forensic Interview
ORGANIZER;CN="First Witness":MAILTO:Info@firstwitness.org
END:VEVENT
BEGIN:VEVENT
DTSTART;VALUE=DATE:20261202
DTEND;VALUE=DATE:20261205
DTSTAMP:20260423T020455
CREATED:20260323T192031Z
LAST-MODIFIED:20260323T192031Z
UID:10001527-1796169600-1796428799@minnesotachildrensalliance.org
SUMMARY:First Witness ChildFirst® Expanded Forensic Interview (ChildFirst®  EX)
DESCRIPTION:Training Overview\nBased on the nationally-recognized ChildFirst® Forensic Interview Protocol\, this 2.5-day training provides a purposeful and legally defensible process for conducting expanded forensic interviews with children who may not succeed in a standard\, single interview due to trauma\, developmental\, special needs or other complicating issues\, including polyvictimization. This training is designed for investigative teams of law enforcement officers\, social workers\, prosecutors\, child protection attorney\, and forensic interviewers who have completed a nationally recognized basic child forensic interview training.  \nThis training will teach the expanded interview process as well as research supporting multiple\, non-duplicative interviews with child victims and witnesses.  \nRegister at First Witness
URL:https://minnesotachildrensalliance.org/training/first-witness-childfirst-expanded-forensic-interview-childfirst-ex-8/
LOCATION:First Witness\, 1402 E 2nd Street\, Duluth\, MN\, 55805\, United States
CATEGORIES:Forensic Interview
ORGANIZER;CN="First Witness":MAILTO:Info@firstwitness.org
END:VEVENT
BEGIN:VEVENT
DTSTART;TZID=America/Chicago:20261210T100000
DTEND;TZID=America/Chicago:20261210T113000
DTSTAMP:20260423T020455
CREATED:20260323T192613Z
LAST-MODIFIED:20260323T192613Z
UID:10001530-1796896800-1796902200@minnesotachildrensalliance.org
SUMMARY:First Witness | Effective Case Tracking Processes for CACs and MDTs
DESCRIPTION:Training Overview\nThe National Children’s Alliance requires that all accredited CACs collect and document specific case information and investigative outcomes to inform ongoing continuous quality improvement\, and for the betterment of cross-MDT communication. This training describes how CACs and MDTs can develop and maintain effective case tracking processes\, tracking essential information from the day of the interview through final potential criminal convictions. This training will review what case-tracking best practices are for Child Advocacy Centers and their MDTs\, and different options to achieve those best practices as a cohesive team. \nRegister Through First Witness
URL:https://minnesotachildrensalliance.org/training/first-witness-effective-case-tracking-processes-for-cacs-and-mdts/
LOCATION:Online Webinar
CATEGORIES:Forensic Interview
ORGANIZER;CN="First Witness":MAILTO:Info@firstwitness.org
END:VEVENT
END:VCALENDAR