BEGIN:VCALENDAR
VERSION:2.0
PRODID:-//Minnesota Children&#039;s Alliance - ECPv6.15.17.1//NONSGML v1.0//EN
CALSCALE:GREGORIAN
METHOD:PUBLISH
X-ORIGINAL-URL:https://minnesotachildrensalliance.org
X-WR-CALDESC:Events for Minnesota Children&#039;s Alliance
REFRESH-INTERVAL;VALUE=DURATION:PT1H
X-Robots-Tag:noindex
X-PUBLISHED-TTL:PT1H
BEGIN:VTIMEZONE
TZID:America/Chicago
BEGIN:DAYLIGHT
TZOFFSETFROM:-0600
TZOFFSETTO:-0500
TZNAME:CDT
DTSTART:20210314T080000
END:DAYLIGHT
BEGIN:STANDARD
TZOFFSETFROM:-0500
TZOFFSETTO:-0600
TZNAME:CST
DTSTART:20211107T070000
END:STANDARD
BEGIN:DAYLIGHT
TZOFFSETFROM:-0600
TZOFFSETTO:-0500
TZNAME:CDT
DTSTART:20220313T080000
END:DAYLIGHT
BEGIN:STANDARD
TZOFFSETFROM:-0500
TZOFFSETTO:-0600
TZNAME:CST
DTSTART:20221106T070000
END:STANDARD
BEGIN:DAYLIGHT
TZOFFSETFROM:-0600
TZOFFSETTO:-0500
TZNAME:CDT
DTSTART:20230312T080000
END:DAYLIGHT
BEGIN:STANDARD
TZOFFSETFROM:-0500
TZOFFSETTO:-0600
TZNAME:CST
DTSTART:20231105T070000
END:STANDARD
BEGIN:DAYLIGHT
TZOFFSETFROM:-0600
TZOFFSETTO:-0500
TZNAME:CDT
DTSTART:20240310T080000
END:DAYLIGHT
BEGIN:STANDARD
TZOFFSETFROM:-0500
TZOFFSETTO:-0600
TZNAME:CST
DTSTART:20241103T070000
END:STANDARD
BEGIN:DAYLIGHT
TZOFFSETFROM:-0600
TZOFFSETTO:-0500
TZNAME:CDT
DTSTART:20250309T080000
END:DAYLIGHT
BEGIN:STANDARD
TZOFFSETFROM:-0500
TZOFFSETTO:-0600
TZNAME:CST
DTSTART:20251102T070000
END:STANDARD
BEGIN:DAYLIGHT
TZOFFSETFROM:-0600
TZOFFSETTO:-0500
TZNAME:CDT
DTSTART:20260308T080000
END:DAYLIGHT
BEGIN:STANDARD
TZOFFSETFROM:-0500
TZOFFSETTO:-0600
TZNAME:CST
DTSTART:20261101T070000
END:STANDARD
END:VTIMEZONE
BEGIN:VEVENT
DTSTART;TZID=America/Chicago:20250130T120000
DTEND;TZID=America/Chicago:20250130T133000
DTSTAMP:20260423T131439
CREATED:20241227T175730Z
LAST-MODIFIED:20241227T175730Z
UID:10001018-1738238400-1738243800@minnesotachildrensalliance.org
SUMMARY:MAC Minnesota Criminal Legal Reform: MRRA
DESCRIPTION:Training Overview\nLiz Richards of the Department of Corrections Victim Services and Restorative Justice Unit will present on the implementation of the Minnesota Rehabilitation and Reinvestment Act (MRRA) which takes effect in 2025. The act allows for incarcerated individuals to earn up to 17% off of their sentence by participating in recidivism reduction programming\, structured activities\, and demonstrating change. There are several points in the process that allow for victim input\, and locating victims will be vitally important. \nRegister Through MAC
URL:https://minnesotachildrensalliance.org/training/mac-minnesota-criminal-legal-reform-mrra/
LOCATION:Online Webinar
CATEGORIES:Advocacy,Children's Advocacy Centers,Court,Forensic Interview,Investigation,Multidisciplinary teams
END:VEVENT
BEGIN:VEVENT
DTSTART;TZID=America/Chicago:20250123T120000
DTEND;TZID=America/Chicago:20250123T133000
DTSTAMP:20260423T131439
CREATED:20241227T175347Z
LAST-MODIFIED:20241227T175815Z
UID:10001017-1737633600-1737639000@minnesotachildrensalliance.org
SUMMARY:MAC Minnesota Criminal Legal Reform: Pardons and Commutations
DESCRIPTION:Training Overview\nThe newly created Clemency Review Commission (CRC) is now the first group to review and hear applications and requests for waivers. Previously\, all applications went straight to the Board of Pardons after being processed by staff. Carli Stark\, Executive Director of the CRC\, along with Gretchen Weinrich\, MAC’s Post-Conviction Advocacy Manager\, will present on this new process and what it means for victims. \nRegister Through MAC\n 
URL:https://minnesotachildrensalliance.org/training/mac-minnesota-criminal-legal-reform-pardons-and-commutations/
LOCATION:Online Webinar
CATEGORIES:Advocacy,Case Tracking,Children's Advocacy Centers,Forensic Interview,Investigation,Multidisciplinary teams
END:VEVENT
BEGIN:VEVENT
DTSTART;VALUE=DATE:20250115
DTEND;VALUE=DATE:20250117
DTSTAMP:20260423T131439
CREATED:20241106T221028Z
LAST-MODIFIED:20241106T221028Z
UID:10000980-1736899200-1737071999@minnesotachildrensalliance.org
SUMMARY:MAC Fundamentals in Victims Services
DESCRIPTION:Training Overview\nThe January 2025 Fundamentals in Victim Services Training is a virtual training for victim advocates to develop core knowledge and skills to provide victim-centered services. Topics covered in this training: \n\nThe Neurobiology of Trauma\nAdvocating within Systems\nExperienced Advocate Panel\nOccupational Identity Management and Preventing Burnout\nCrime Victims’ Rights\nFinancial Assistance for Crime Victims\nBias\, Privilege\, and Oppression\n\nFurthermore\, training participants will have opportunities to connect with one another and with experienced professionals with a range of knowledge and skills. \nExpectations for the Virtual Format \nFundamentals in Victim Services will feature interactive modules to appeal to different styles of learning\, with a combination of lecture\, small group work in breakout sessions\, and opportunities for individual reflection. The number of attendees will be limited to 30 to maximize the quality of interaction. \nModules will take place live via Zoom. Attendees will be expected to actively participate\, using the chat to engage with presenters and other participants\, and turning on cameras and unmuting during large group discussions and breakout sessions. \nMAC will award a certificate of completion to attendees who complete all the modules. Participants are expected to complete all sessions live. If you cannot attend a live session\, you must email us at training@mnallianceoncrime.org in advance to request an excused absence. Sessions may not be recorded. \nRegister Through MAC\n 
URL:https://minnesotachildrensalliance.org/training/mac-fundamentals-in-victims-services/
LOCATION:Online Webinar
CATEGORIES:Advocacy,Children's Advocacy Centers,Investigation,Multidisciplinary teams
END:VEVENT
BEGIN:VEVENT
DTSTART;TZID=America/Chicago:20241211T113000
DTEND;TZID=America/Chicago:20241211T130000
DTSTAMP:20260423T131439
CREATED:20241104T183259Z
LAST-MODIFIED:20241104T183259Z
UID:10000972-1733916600-1733922000@minnesotachildrensalliance.org
SUMMARY:MAC | Loss of Life Cases: Advocate's Perspective
DESCRIPTION:Training Overview\nHomicide cases are serious in nature and can pose several challenges to a victim services provider. There are many dynamics that should be considered and addressed in order to fully support survivors. This webinar will outline those dynamics and provide solutions and ideas for providing mindful\, responsive\, and comprehensive services and support. Kelly Nicholson has worked as an advocate in the criminal justice system since 1995. She began in the Anoka County Attorney’s Office where she worked for 11 years working directly with victims of crime. Currently\, she is the Supervisor of the Dakota County Attorney’s Office – Victim Witness Program. \nThis webinar is free for all to attend. The webinar will be recorded and the recording will be made available exclusively for MAC members. \nRegister Through MAC
URL:https://minnesotachildrensalliance.org/training/mac-loss-of-life-cases-advocates-perspective/
LOCATION:Online Webinar
CATEGORIES:Advocacy,Children's Advocacy Centers,Investigation
END:VEVENT
BEGIN:VEVENT
DTSTART;TZID=America/Chicago:20241204T113000
DTEND;TZID=America/Chicago:20241204T130000
DTSTAMP:20260423T131439
CREATED:20241104T183029Z
LAST-MODIFIED:20241104T183029Z
UID:10000971-1733311800-1733317200@minnesotachildrensalliance.org
SUMMARY:MAC | Loss of Life Cases: Survivor's Perspective
DESCRIPTION:Training Overview\nLoss of life cases are serious in nature and can pose several challenges to a victim services provider. There are many dynamics that should be considered and addressed in order to fully support survivors. Hear from Kim Adams and Thelma Gaye\, whose sons were killed by members of the same family. Kim and Thelma did not know each other before these tragedies\, and since connecting over their losses they have become family to each other. Kim and Thelma come from different cultural backgrounds and their cases were in different counties\, they will discuss the variations in support they received\, and what advocates can do to better support survivors. \nThis webinar is free for all to attend. The webinar will be recorded and the recording will be made available exclusively for MAC members. \nRegister Through MAC
URL:https://minnesotachildrensalliance.org/training/mac-loss-of-life-cases-survivors-perspective/
LOCATION:Online Webinar
CATEGORIES:Advocacy,Children's Advocacy Centers,Investigation
END:VEVENT
BEGIN:VEVENT
DTSTART;TZID=America/Chicago:20241031T120000
DTEND;TZID=America/Chicago:20241031T133000
DTSTAMP:20260423T131439
CREATED:20241015T191709Z
LAST-MODIFIED:20241015T191709Z
UID:10000969-1730376000-1730381400@minnesotachildrensalliance.org
SUMMARY:MAC | Rule 20 Evaluations
DESCRIPTION:Training Overview\nPresenters from the Ramsey County Attorney’s Office\, Sabrina Yates\, Anne Zimmerman\, and Jenna Bartelt will provide an overview of Minnesota Statute 611 and Rule 20\, an overview of civil commitment\, and delve into special circumstances within this process. The presenters will discuss the mechanics of the process\, how victim notification works within it\, types of civil commitments\, services provided\, and the various types of cases involved. \nThis webinar is free for all to attend. The webinar will be recorded and the recording will be made available exclusively for MAC members. \nRegister Through MAC
URL:https://minnesotachildrensalliance.org/training/mac-rule-20-evaluations/
LOCATION:Online Webinar
CATEGORIES:Advocacy,Children's Advocacy Centers,Investigation,Multidisciplinary teams,Statute
END:VEVENT
BEGIN:VEVENT
DTSTART;TZID=America/Chicago:20221101T110000
DTEND;TZID=America/Chicago:20221101T130000
DTSTAMP:20260423T131439
CREATED:20221028T194924Z
LAST-MODIFIED:20221028T195410Z
UID:10000333-1667300400-1667307600@minnesotachildrensalliance.org
SUMMARY:Hmong\, Spanish\, and Somali Language Access: A Panel Discussion
DESCRIPTION:Training Overview\nThe Minnesota Alliance on Crime hosts Pheng Thao from Transforming Generations\, Mercedes Moreno from University of Minnesota/Community-University Health Care Center (CUHCC)\, and blank from Confederation of Somali Community in Minnesota to discuss providing advocacy to survivors who do not speak the same language as you. \nTopics include\, but not limited to:\n\nAccess to interpretation\nHow to work effectively with interpreters\nHow to advocate for competent and sensitive translation\nThe perils of advocates in dual roles as both interpreters and advocates\nHow to make sure legal terms are accurately translated\n\nRegistration\nOnline webinar. Register for free online via the Minnesota Alliance on Crime.
URL:https://minnesotachildrensalliance.org/training/hmong-spanish-and-somali-language-access-a-panel-discussion/
LOCATION:Online Webinar
CATEGORIES:Advocacy,Children's Advocacy Centers,Culture,Equity,Online Webinar
END:VEVENT
END:VCALENDAR