BEGIN:VCALENDAR
VERSION:2.0
PRODID:-//Minnesota Children&#039;s Alliance - ECPv6.15.17.1//NONSGML v1.0//EN
CALSCALE:GREGORIAN
METHOD:PUBLISH
X-ORIGINAL-URL:https://minnesotachildrensalliance.org
X-WR-CALDESC:Events for Minnesota Children&#039;s Alliance
REFRESH-INTERVAL;VALUE=DURATION:PT1H
X-Robots-Tag:noindex
X-PUBLISHED-TTL:PT1H
BEGIN:VTIMEZONE
TZID:America/Chicago
BEGIN:DAYLIGHT
TZOFFSETFROM:-0600
TZOFFSETTO:-0500
TZNAME:CDT
DTSTART:20250309T080000
END:DAYLIGHT
BEGIN:STANDARD
TZOFFSETFROM:-0500
TZOFFSETTO:-0600
TZNAME:CST
DTSTART:20251102T070000
END:STANDARD
BEGIN:DAYLIGHT
TZOFFSETFROM:-0600
TZOFFSETTO:-0500
TZNAME:CDT
DTSTART:20260308T080000
END:DAYLIGHT
BEGIN:STANDARD
TZOFFSETFROM:-0500
TZOFFSETTO:-0600
TZNAME:CST
DTSTART:20261101T070000
END:STANDARD
BEGIN:DAYLIGHT
TZOFFSETFROM:-0600
TZOFFSETTO:-0500
TZNAME:CDT
DTSTART:20270314T080000
END:DAYLIGHT
BEGIN:STANDARD
TZOFFSETFROM:-0500
TZOFFSETTO:-0600
TZNAME:CST
DTSTART:20271107T070000
END:STANDARD
END:VTIMEZONE
BEGIN:VEVENT
DTSTART;VALUE=DATE:20260504
DTEND;VALUE=DATE:20260508
DTSTAMP:20260424T124610
CREATED:20260128T195252Z
LAST-MODIFIED:20260226T231833Z
UID:10001481-1777852800-1778198399@minnesotachildrensalliance.org
SUMMARY:NCAC Forensic Interviewing of Children Training
DESCRIPTION:Training Overview\nThe National Children’s Advocacy Center (NCAC) Forensic Interviewing of Children training is an internationally recognized\, research-informed and practice-informed intensive training. Participants will learn necessary skills to conduct a competent investigative interview of a child using the NCAC Child Forensic Interview (CFI) Structure. Participants will also be introduced to the evidence-based literature that supports the NCAC CFI Structure. This 4-day\, interactive training is facilitated by practicing forensic interviewers who are well-versed in the current literature. The training includes lectures\, skill-building activities\, guided discussions\, reflections\, and an interview practicum in a supportive environment with assessment and feedback provided by experienced interviewers. \nRegister through NCAC\nRegister by Friday\, March 13\, 2026!
URL:https://minnesotachildrensalliance.org/training/ncac-forensic-interviewing-of-children-training-15/
LOCATION:Online Webinar
CATEGORIES:Children's Advocacy Centers,Forensic Interview
END:VEVENT
BEGIN:VEVENT
DTSTART;VALUE=DATE:20260519
DTEND;VALUE=DATE:20260520
DTSTAMP:20260424T124610
CREATED:20260128T195142Z
LAST-MODIFIED:20260324T163858Z
UID:10001480-1779148800-1779235199@minnesotachildrensalliance.org
SUMMARY:NCAC Interviewing Children on the Autism Spectrum
DESCRIPTION:Training Overview\nChildren with neurodivergent disorders such as ASD are at an increased risk of child maltreatment. This population presents challenges for forensic interviewers as there is great variability in functioning including unique memory and cognitive processes\, linguistic style\, understanding and expression of emotions\, and forming connections with others. Many of these children can provide information about their experiences if the interviewer is able to adapt questioning approaches and interview strategies to meet the needs of this child. Preparation and flexibility are key. While providing a review of possible domains of impact on functioning\, this training will focus on tips for information gathering\, preparation with the investigative partners to set reasonable expectations\, and adaptations to questioning strategies and interview phases. \nThis training is recommended for forensic interviewers who have developed some comfort and flexibility with the continuum of questioning strategies and the phases of a forensic interview. \nRegister through NCAC
URL:https://minnesotachildrensalliance.org/training/ncac-interviewing-children-on-the-autism-spectrum-4/
LOCATION:Online Webinar
CATEGORIES:Children's Advocacy Centers,Forensic Interview,Mental Health,Multidisciplinary teams
END:VEVENT
BEGIN:VEVENT
DTSTART;VALUE=DATE:20260601
DTEND;VALUE=DATE:20260605
DTSTAMP:20260424T124610
CREATED:20260304T201310Z
LAST-MODIFIED:20260304T201310Z
UID:10001503-1780272000-1780617599@minnesotachildrensalliance.org
SUMMARY:NCAC Forensic Interviewing of Children Training
DESCRIPTION:Training Overview\nThe National Children’s Advocacy Center (NCAC) Forensic Interviewing of Children training is an internationally recognized\, research-informed and practice-informed intensive training. Participants will learn necessary skills to conduct a competent investigative interview of a child using the NCAC Child Forensic Interview (CFI) Structure. Participants will also be introduced to the evidence-based literature that supports the NCAC CFI Structure. This 4-day\, interactive training is facilitated by practicing forensic interviewers who are well-versed in the current literature. The training includes lectures\, skill-building activities\, guided discussions\, reflections\, and an interview practicum in a supportive environment with assessment and feedback provided by experienced interviewers. \nRegister through NCAC\nRegister by Friday\, May 22\, 2026!
URL:https://minnesotachildrensalliance.org/training/ncac-forensic-interviewing-of-children-training-16/
LOCATION:Online Webinar
CATEGORIES:Forensic Interview
END:VEVENT
BEGIN:VEVENT
DTSTART;VALUE=DATE:20260616
DTEND;VALUE=DATE:20260618
DTSTAMP:20260424T124610
CREATED:20260304T201209Z
LAST-MODIFIED:20260324T163759Z
UID:10001502-1781568000-1781740799@minnesotachildrensalliance.org
SUMMARY:NCAC Critical Thinking in the Forensic Interview: Moving From Rote to Responsive Practice
DESCRIPTION:Training Overview\nEffective forensic interviewers must possess a broad repertoire of skills. Additionally\, forensic interviewers should develop a critical thinking framework to accommodate the needs of the child and the investigative team\, especially in highly complex cases. This training focuses on preparing interviewers to make thoughtful decisions throughout the entirety of the interview. Suggestions for engaging with investigative partners in the adaptations will be addressed. \nThis training is recommended for forensic interviewers wishing to improve their planning\, thinking\, and decision-making processes throughout the forensic interview as well as working effectively with investigative partners. \nRegister through NCAC\nRegister by Friday\, June 12\, 2026
URL:https://minnesotachildrensalliance.org/training/ncac-critical-thinking-in-the-forensic-interview-moving-from-rote-to-responsive-practice-5/
LOCATION:Online Webinar
CATEGORIES:Forensic Interview
END:VEVENT
BEGIN:VEVENT
DTSTART;VALUE=DATE:20260623
DTEND;VALUE=DATE:20260625
DTSTAMP:20260424T124610
CREATED:20260304T201014Z
LAST-MODIFIED:20260324T163828Z
UID:10001501-1782172800-1782345599@minnesotachildrensalliance.org
SUMMARY:NCAC Forensic Interviews of Preschool Child Witnesses
DESCRIPTION:Training Overview\nForensic interviews of preschool children are challenging\, calling for knowledge of early childhood developmental abilities and limitations\, as well as strategies for developing rapport and maintaining engagement with a preschool witness. A nuanced ability to adapt questioning approaches and the interview protocol to the temperament and linguistic ability of each child is necessary. This training focuses on deepening understanding of preschool capabilities as well as strategies for obtaining information from the youngest witnesses. \nThis training is recommended for child forensic interviewers who have received no formal training on interviewing preschool children\, as well as those who lack comfort in interviewing this population. \nRegister through NCAC\nRegister by Tuesday\, June 30\, 2026
URL:https://minnesotachildrensalliance.org/training/ncac-forensic-interviews-of-preschool-child-witnesses-4/
LOCATION:Online Webinar
CATEGORIES:Forensic Interview
END:VEVENT
BEGIN:VEVENT
DTSTART;VALUE=DATE:20260713
DTEND;VALUE=DATE:20260717
DTSTAMP:20260424T124610
CREATED:20260304T202637Z
LAST-MODIFIED:20260304T202637Z
UID:10001507-1783900800-1784246399@minnesotachildrensalliance.org
SUMMARY:NCAC Forensic Interviewing of Children Training
DESCRIPTION:Training Overview\nThe National Children’s Advocacy Center (NCAC) Forensic Interviewing of Children training is an internationally recognized\, research-informed and practice-informed intensive training. Participants will learn necessary skills to conduct a competent investigative interview of a child using the NCAC Child Forensic Interview (CFI) Structure. Participants will also be introduced to the evidence-based literature that supports the NCAC CFI Structure. This 4-day\, interactive training is facilitated by practicing forensic interviewers who are well-versed in the current literature. The training includes lectures\, skill-building activities\, guided discussions\, reflections\, and an interview practicum in a supportive environment with assessment and feedback provided by experienced interviewers. \nRegister through NCAC\nRegister by Saturday\, June 13\, 2026
URL:https://minnesotachildrensalliance.org/training/ncac-forensic-interviewing-of-children-training-17/
LOCATION:Online Webinar
CATEGORIES:Forensic Interview
END:VEVENT
BEGIN:VEVENT
DTSTART;VALUE=DATE:20260728
DTEND;VALUE=DATE:20260729
DTSTAMP:20260424T124610
CREATED:20260304T202425Z
LAST-MODIFIED:20260324T163656Z
UID:10001506-1785196800-1785283199@minnesotachildrensalliance.org
SUMMARY:NCAC Interviewing Children with Problematic Sexual Behaviors
DESCRIPTION:Training Overview\nChildren exhibiting problematic sexual behaviors may be referred for a forensic interview. CAC forensic interviewers whose mission is to interview children about potential maltreatment they have experienced and not as offenders find themselves balancing their mandate with the goals of investigators and concerned parents. This training will provide information to help forensic interviewers distinguish normative from problematic sexual behavior in children\, identify potential contributing factors to the behavior\, dispel common misconceptions about these behaviors and children\, and have a more robust and evidence-informed response to these cases. Interview adaptations and recommendations will be provided. \nThis training is recommended for forensic interviewers who have developed some comfort and flexibility with the continuum of questioning strategies as well as the phases of a forensic interview. \nRegister through NCAC\nRegister by Tuesday\, July 14\, 2026 \n 
URL:https://minnesotachildrensalliance.org/training/ncac-interviewing-children-with-problematic-sexual-behaviors-4/
LOCATION:Online Webinar
CATEGORIES:Forensic Interview
END:VEVENT
BEGIN:VEVENT
DTSTART;VALUE=DATE:20260817
DTEND;VALUE=DATE:20260821
DTSTAMP:20260424T124610
CREATED:20260304T203613Z
LAST-MODIFIED:20260304T203613Z
UID:10001511-1786924800-1787270399@minnesotachildrensalliance.org
SUMMARY:NCAC Forensic Interviewing of Children Training
DESCRIPTION:Training Overview\nThe National Children’s Advocacy Center (NCAC) Forensic Interviewing of Children training is an internationally recognized\, research-informed and practice-informed intensive training. Participants will learn necessary skills to conduct a competent investigative interview of a child using the NCAC Child Forensic Interview (CFI) Structure. Participants will also be introduced to the evidence-based literature that supports the NCAC CFI Structure. This 4-day\, interactive training is facilitated by practicing forensic interviewers who are well-versed in the current literature. The training includes lectures\, skill-building activities\, guided discussions\, reflections\, and an interview practicum in a supportive environment with assessment and feedback provided by experienced interviewers. \nRegister through NCAC\nRegister by Monday\, August 3\, 2026
URL:https://minnesotachildrensalliance.org/training/ncac-forensic-interviewing-of-children-training-18/
LOCATION:Online Webinar
CATEGORIES:Forensic Interview
END:VEVENT
BEGIN:VEVENT
DTSTART;VALUE=DATE:20260901
DTEND;VALUE=DATE:20260903
DTSTAMP:20260424T124610
CREATED:20260304T204818Z
LAST-MODIFIED:20260324T163604Z
UID:10001513-1788220800-1788393599@minnesotachildrensalliance.org
SUMMARY:NCAC Increasing Skill in Forensic Interviewing of Children
DESCRIPTION:Training Overview\nThe National Children’s Advocacy Center (NCAC) Forensic Interviewing of Children training is an internationally recognized\, research-informed and practice-informed intensive training. Participants will learn necessary skills to conduct a competent investigative interview of a child using the NCAC Child Forensic Interview (CFI) Structure. Participants will also be introduced to the evidence-based literature that supports the NCAC CFI Structure. This 4-day\, interactive training is facilitated by practicing forensic interviewers who are well-versed in the current literature. The training includes lectures\, skill-building activities\, guided discussions\, reflections\, and an interview practicum in a supportive environment with assessment and feedback provided by experienced interviewers. \nRegister through NCAC\nRegister by Friday\, August 28\, 2026!
URL:https://minnesotachildrensalliance.org/training/ncac-increasing-skill-in-forensic-interviewing-of-children-5/
LOCATION:Online Webinar
CATEGORIES:Forensic Interview
END:VEVENT
BEGIN:VEVENT
DTSTART;VALUE=DATE:20260914
DTEND;VALUE=DATE:20260918
DTSTAMP:20260424T124610
CREATED:20260304T211019Z
LAST-MODIFIED:20260304T211019Z
UID:10001514-1789344000-1789689599@minnesotachildrensalliance.org
SUMMARY:NCAC Forensic Interviewing of Children Training
DESCRIPTION:Training Overview\nThe National Children’s Advocacy Center (NCAC) Forensic Interviewing of Children training is an internationally recognized\, research-informed and practice-informed intensive training. Participants will learn necessary skills to conduct a competent investigative interview of a child using the NCAC Child Forensic Interview (CFI) Structure. Participants will also be introduced to the evidence-based literature that supports the NCAC CFI Structure. This 4-day\, interactive training is facilitated by practicing forensic interviewers who are well-versed in the current literature. The training includes lectures\, skill-building activities\, guided discussions\, reflections\, and an interview practicum in a supportive environment with assessment and feedback provided by experienced interviewers. \nRegister through NCAC\nRegister by Thursday\, September 3\, 2026
URL:https://minnesotachildrensalliance.org/training/ncac-forensic-interviewing-of-children-training-19/
LOCATION:Online Webinar
CATEGORIES:Forensic Interview
END:VEVENT
BEGIN:VEVENT
DTSTART;VALUE=DATE:20261006
DTEND;VALUE=DATE:20261007
DTSTAMP:20260424T124610
CREATED:20260323T191000Z
LAST-MODIFIED:20260323T191000Z
UID:10001521-1791244800-1791331199@minnesotachildrensalliance.org
SUMMARY:NCAC Interviewing Children Who Witnessed Violence
DESCRIPTION:Training Overview\nTrauma can affect children mentally and physically\, even when they haven’t been physically hurt themselves. The session focuses on conducting interviews that consider the child’s emotional state and working closely with investigators for a thorough and compassionate approach. \nThis training is recommended for forensic interviewers at any level who wish to increase their ability to obtain the most complete and accurate information from a child witness. \nRegister through NCAC\nRegister by Saturday\, October 3\, 2026!
URL:https://minnesotachildrensalliance.org/training/ncac-interviewing-children-who-witnessed-violence-4/
LOCATION:Online Webinar
CATEGORIES:Forensic Interview
END:VEVENT
BEGIN:VEVENT
DTSTART;VALUE=DATE:20261019
DTEND;VALUE=DATE:20261023
DTSTAMP:20260424T124610
CREATED:20260313T191550Z
LAST-MODIFIED:20260313T191550Z
UID:10001519-1792368000-1792713599@minnesotachildrensalliance.org
SUMMARY:NCAC Forensic Interviewing of Children Training
DESCRIPTION:Training Overview\nThe National Children’s Advocacy Center (NCAC) Forensic Interviewing of Children training is an internationally recognized\, research-informed and practice-informed intensive training. Participants will learn necessary skills to conduct a competent investigative interview of a child using the NCAC Child Forensic Interview (CFI) Structure. Participants will also be introduced to the evidence-based literature that supports the NCAC CFI Structure. This 4-day\, interactive training is facilitated by practicing forensic interviewers who are well-versed in the current literature. The training includes lectures\, skill-building activities\, guided discussions\, reflections\, and an interview practicum in a supportive environment with assessment and feedback provided by experienced interviewers. \nRegister through NCAC\nRegister by Saturday\, September 19\, 2026
URL:https://minnesotachildrensalliance.org/training/ncac-forensic-interviewing-of-children-training-20/
LOCATION:Online Webinar
CATEGORIES:Forensic Interview
END:VEVENT
BEGIN:VEVENT
DTSTART;VALUE=DATE:20261027
DTEND;VALUE=DATE:20261029
DTSTAMP:20260424T124610
CREATED:20260313T192024Z
LAST-MODIFIED:20260324T162915Z
UID:10001520-1793059200-1793231999@minnesotachildrensalliance.org
SUMMARY:NCAC | Forensic Interviewing with High-Risk Youth: Identifying and Responding to Trafficking Concerns
DESCRIPTION:Training Overview\nChildren identified as potential trafficking/exploitation victims present many challenges in the forensic interview. Challenges range from reluctance to disclose information to the disclosure of multiple victimizations by numerous offenders occurring in various locations. This training will equip interviewers with skills to effectively plan for and conduct the high-risk or trafficking interview. \nThis training is recommended for forensic interviewers who have developed some comfort and flexibility with the continuum of questioning strategies as well as the phases of a forensic interview. \nRegister through NCAC\nRegister by Wednesday\, October 14\, 2026 \n 
URL:https://minnesotachildrensalliance.org/training/ncac-forensic-interviewing-with-high-risk-youth-identifying-and-responding-to-trafficking-concerns-2/
LOCATION:Online Webinar
CATEGORIES:Forensic Interview
END:VEVENT
BEGIN:VEVENT
DTSTART;VALUE=DATE:20261103
DTEND;VALUE=DATE:20261104
DTSTAMP:20260424T124610
CREATED:20260323T191702Z
LAST-MODIFIED:20260324T162828Z
UID:10001525-1793664000-1793750399@minnesotachildrensalliance.org
SUMMARY:NCAC More Than One Interview: When\, Why\, and How
DESCRIPTION:Training Overview\nForensic interviewers and multi-disciplinary partners recognize the shortcomings of strict adherence to a “one and done” interview approach. Research provides some clarification of reasons why a child may need more than one interview and limited recommendations for implementation\, leaving forensic interviewers and their investigative partners with little clarity about how to apply this information to day-to-day practice. This training will review supportive literature\, introduce a decision-making process for selecting appropriate cases\, and guidance for conducting follow-up forensic interviews. Recommendations for explaining and defending the multi-session approach are included. This training is recommended for forensic interviewers who have developed some comfort and flexibility with the continuum of questioning strategies and the phases of a forensic interview. \nRegister through NCAC\nRegister by Tuesday\, October 20\, 2026.
URL:https://minnesotachildrensalliance.org/training/ncac-more-than-one-interview-when-why-and-how-4/
LOCATION:Online Webinar
CATEGORIES:Forensic Interview
END:VEVENT
BEGIN:VEVENT
DTSTART;VALUE=DATE:20261110
DTEND;VALUE=DATE:20261111
DTSTAMP:20260424T124610
CREATED:20260323T191521Z
LAST-MODIFIED:20260324T162849Z
UID:10001524-1794268800-1794355199@minnesotachildrensalliance.org
SUMMARY:NCAC Interviewing Children on the Autism Spectrum
DESCRIPTION:Training Overview\nChildren with neurodivergent disorders such as ASD are at an increased risk of child maltreatment. This population presents challenges for forensic interviewers as there is great variability in functioning including unique memory and cognitive processes\, linguistic style\, understanding and expression of emotions\, and forming connections with others. Many of these children can provide information about their experiences if the interviewer is able to adapt questioning approaches and interview strategies to meet the needs of this child. Preparation and flexibility are key. While providing a review of possible domains of impact on functioning\, this training will focus on tips for information gathering\, preparation with the investigative partners to set reasonable expectations\, and adaptations to questioning strategies and interview phases. \nThis training is recommended for forensic interviewers who have developed some comfort and flexibility with the continuum of questioning strategies and the phases of a forensic interview. \nRegister through NCAC\nRegister by Tuesday\, October 27\, 2026
URL:https://minnesotachildrensalliance.org/training/ncac-interviewing-children-on-the-autism-spectrum-5/
LOCATION:Online Webinar
CATEGORIES:Forensic Interview
END:VEVENT
BEGIN:VEVENT
DTSTART;VALUE=DATE:20261116
DTEND;VALUE=DATE:20261120
DTSTAMP:20260424T124610
CREATED:20260323T191839Z
LAST-MODIFIED:20260323T191839Z
UID:10001526-1794787200-1795132799@minnesotachildrensalliance.org
SUMMARY:NCAC Forensic Interviewing of Children Training
DESCRIPTION:Training Overview\nThe National Children’s Advocacy Center (NCAC) Forensic Interviewing of Children training is an internationally recognized\, research-informed and practice-informed intensive training. Participants will learn necessary skills to conduct a competent investigative interview of a child using the NCAC Child Forensic Interview (CFI) Structure. Participants will also be introduced to the evidence-based literature that supports the NCAC CFI Structure. This 4-day\, interactive training is facilitated by practicing forensic interviewers who are well-versed in the current literature. The training includes lectures\, skill-building activities\, guided discussions\, reflections\, and an interview practicum in a supportive environment with assessment and feedback provided by experienced interviewers. \nRegister through NCAC\nRegister by Monday\, November 2\, 2026.
URL:https://minnesotachildrensalliance.org/training/ncac-forensic-interviewing-of-children-training-21/
LOCATION:Online Webinar
CATEGORIES:Forensic Interview
END:VEVENT
BEGIN:VEVENT
DTSTART;VALUE=DATE:20261207
DTEND;VALUE=DATE:20261211
DTSTAMP:20260424T124610
CREATED:20260323T192211Z
LAST-MODIFIED:20260323T192211Z
UID:10001528-1796601600-1796947199@minnesotachildrensalliance.org
SUMMARY:NCAC Forensic Interviewing of Children Training
DESCRIPTION:Training Overview\nThe National Children’s Advocacy Center (NCAC) Forensic Interviewing of Children training is an internationally recognized\, research-informed and practice-informed intensive training. Participants will learn necessary skills to conduct a competent investigative interview of a child using the NCAC Child Forensic Interview (CFI) Structure. Participants will also be introduced to the evidence-based literature that supports the NCAC CFI Structure. This 4-day\, interactive training is facilitated by practicing forensic interviewers who are well-versed in the current literature. The training includes lectures\, skill-building activities\, guided discussions\, reflections\, and an interview practicum in a supportive environment with assessment and feedback provided by experienced interviewers. \nRegister through NCAC\nRegister by Thursday\, November 26\, 2026.
URL:https://minnesotachildrensalliance.org/training/ncac-forensic-interviewing-of-children-training-22/
LOCATION:Online Webinar
CATEGORIES:Forensic Interview
END:VEVENT
END:VCALENDAR