BEGIN:VCALENDAR
VERSION:2.0
PRODID:-//Minnesota Children&#039;s Alliance - ECPv6.15.17.1//NONSGML v1.0//EN
CALSCALE:GREGORIAN
METHOD:PUBLISH
X-ORIGINAL-URL:https://minnesotachildrensalliance.org
X-WR-CALDESC:Events for Minnesota Children&#039;s Alliance
REFRESH-INTERVAL;VALUE=DURATION:PT1H
X-Robots-Tag:noindex
X-PUBLISHED-TTL:PT1H
BEGIN:VTIMEZONE
TZID:America/Chicago
BEGIN:DAYLIGHT
TZOFFSETFROM:-0600
TZOFFSETTO:-0500
TZNAME:CDT
DTSTART:20190310T080000
END:DAYLIGHT
BEGIN:STANDARD
TZOFFSETFROM:-0500
TZOFFSETTO:-0600
TZNAME:CST
DTSTART:20191103T070000
END:STANDARD
BEGIN:DAYLIGHT
TZOFFSETFROM:-0600
TZOFFSETTO:-0500
TZNAME:CDT
DTSTART:20200308T080000
END:DAYLIGHT
BEGIN:STANDARD
TZOFFSETFROM:-0500
TZOFFSETTO:-0600
TZNAME:CST
DTSTART:20201101T070000
END:STANDARD
BEGIN:DAYLIGHT
TZOFFSETFROM:-0600
TZOFFSETTO:-0500
TZNAME:CDT
DTSTART:20210314T080000
END:DAYLIGHT
BEGIN:STANDARD
TZOFFSETFROM:-0500
TZOFFSETTO:-0600
TZNAME:CST
DTSTART:20211107T070000
END:STANDARD
END:VTIMEZONE
BEGIN:VEVENT
DTSTART;TZID=America/Chicago:20200624T140000
DTEND;TZID=America/Chicago:20200624T150000
DTSTAMP:20260421T192551
CREATED:20200602T170008Z
LAST-MODIFIED:20200602T170008Z
UID:10000228-1593007200-1593010800@minnesotachildrensalliance.org
SUMMARY:Working Together to Combat Child Abuse
DESCRIPTION:Webinar Overview\nIn this webinar presented by the National Training and Technical Assistance Center\, presenters will discuss how teams work together to combat child abuse. \nWorking as a team to achieve a common goal can be challenging\, especially when each member of the team has their own role and agenda they are trying to accomplish. Throw in child abuse\, complex trauma\, and the daily combat of morally challenging work and tensions are bound to arise. \nIn this workshop\, participants will learn the importance of a multi-disciplinary approach to child abuse investigations. Additionally\, the content will cover challenges\, barriers\, and strategies in overcoming them by working effectively together as a team to combat the child abuse epidemic. \nRegister online.
URL:https://minnesotachildrensalliance.org/training/working-together-to-combat-child-abuse/
LOCATION:Online Webinar
CATEGORIES:Children's Advocacy Centers,Multidisciplinary teams,Online Webinar
END:VEVENT
BEGIN:VEVENT
DTSTART;TZID=America/Chicago:20200603T140000
DTEND;TZID=America/Chicago:20200603T150000
DTSTAMP:20260421T192551
CREATED:20200527T155813Z
LAST-MODIFIED:20200527T155813Z
UID:10000225-1591192800-1591196400@minnesotachildrensalliance.org
SUMMARY:Corroborating the Forensic Interview
DESCRIPTION:Webinar Overview\nNo child should have to carry a case on his/her own. This session will provide practical tips and suggestions for working as a Multi-Disciplinary Team to corroborate a forensic interview so the professionals can do the heavy lifting. Participants will learn how photographs can enhance the values of evidence\, the effectiveness of evidence of prior bad acts\, and goals for interviewing perpetrators. \nThis is an online session. Register here.
URL:https://minnesotachildrensalliance.org/training/corroborating-the-forensic-interview/
LOCATION:Online Webinar
CATEGORIES:Forensic Interview,Investigation,Multidisciplinary teams,Online Webinar
END:VEVENT
END:VCALENDAR