BEGIN:VCALENDAR
VERSION:2.0
PRODID:-//Minnesota Children&#039;s Alliance - ECPv6.15.17.1//NONSGML v1.0//EN
CALSCALE:GREGORIAN
METHOD:PUBLISH
X-ORIGINAL-URL:https://minnesotachildrensalliance.org
X-WR-CALDESC:Events for Minnesota Children&#039;s Alliance
REFRESH-INTERVAL;VALUE=DURATION:PT1H
X-Robots-Tag:noindex
X-PUBLISHED-TTL:PT1H
BEGIN:VTIMEZONE
TZID:America/Chicago
BEGIN:DAYLIGHT
TZOFFSETFROM:-0600
TZOFFSETTO:-0500
TZNAME:CDT
DTSTART:20250309T080000
END:DAYLIGHT
BEGIN:STANDARD
TZOFFSETFROM:-0500
TZOFFSETTO:-0600
TZNAME:CST
DTSTART:20251102T070000
END:STANDARD
BEGIN:DAYLIGHT
TZOFFSETFROM:-0600
TZOFFSETTO:-0500
TZNAME:CDT
DTSTART:20260308T080000
END:DAYLIGHT
BEGIN:STANDARD
TZOFFSETFROM:-0500
TZOFFSETTO:-0600
TZNAME:CST
DTSTART:20261101T070000
END:STANDARD
BEGIN:DAYLIGHT
TZOFFSETFROM:-0600
TZOFFSETTO:-0500
TZNAME:CDT
DTSTART:20270314T080000
END:DAYLIGHT
BEGIN:STANDARD
TZOFFSETFROM:-0500
TZOFFSETTO:-0600
TZNAME:CST
DTSTART:20271107T070000
END:STANDARD
END:VTIMEZONE
BEGIN:VEVENT
DTSTART;TZID=America/Chicago:20260528T120000
DTEND;TZID=America/Chicago:20260528T130000
DTSTAMP:20260424T031804
CREATED:20260413T165011Z
LAST-MODIFIED:20260413T165011Z
UID:10001558-1779969600-1779973200@minnesotachildrensalliance.org
SUMMARY:MN Judicial Branch | The Intersection of Domestic Violence\, Mental Health\, Chemical Dependency\, and Child Welfare
DESCRIPTION:Training Overview\nDomestic violence frequently co-occurs with substance use and mental health challenges\, creating complex family dynamics that are often misunderstood by the systems responsible for safety\, treatment\, and accountability. When these issues intersect—particularly in families involved with the child welfare system—they can obscure patterns of coercive control\, complicate safety planning\, and result in responses that unintentionally increase risk for both survivors and children.\nThis training examines how domestic violence\, chemical dependency\, mental health illness\, and child welfare involvement interact within individuals\, families\, and service systems. Participants will explore how trauma affects both adult and child functioning; how substance use\, and mental health diagnoses may be misinterpreted as the primary cause of abuse; and how survivor coping strategies\, including substance use\, are often viewed through a deficit-based or punitive lens. The session also addresses the ways coercive control directly impacts parenting\, child safety\, and family stability\, as well as how system silos and conflicting mandates can undermine effective intervention and family-centered outcomes.\nUsing a trauma-informed\, victim-centered\, and child-focused framework\, this training encourages critical analysis\, challenges common assumptions\, and promotes coordinated responses that enhance safety\, stability\, and accountability. Participants will leave with practical strategies to strengthen professional judgment\, improve cross-system collaboration\, and support more effective decision-making in complex cases. \nLearning Objectives\n1. Explain how domestic violence\, mental health challenges\, substance use\, and child welfare involvement intersect and influence risk\, parenting capacity\, and system responses.\n2. Distinguish the impacts of trauma\, chemical dependency\, and mental health conditions from patterns of coercive control\, particularly in the context of child safety and family functioning.\n3. Apply trauma-informed\, multidisciplinary\, and child-focused strategies to improve assessment\, referrals\, and cross-system collaboration to enhance safety and long-term outcomes. \nRegister through the Minnesota Judicial Branch\n 
URL:https://minnesotachildrensalliance.org/training/mn-judicial-branch-the-intersection-of-domestic-violence-mental-health-chemical-dependency-and-child-welfare/
LOCATION:Online Webinar
CATEGORIES:Advocacy,Mental Health,Online Webinar
END:VEVENT
BEGIN:VEVENT
DTSTART;VALUE=DATE:20260614
DTEND;VALUE=DATE:20260619
DTSTAMP:20260424T031804
CREATED:20251008T200900Z
LAST-MODIFIED:20251008T200900Z
UID:10001360-1781395200-1781827199@minnesotachildrensalliance.org
SUMMARY:2026 APSAC Colloquium
DESCRIPTION:Conference Overview\nFor over three decades\, the APSAC Colloquium has been a cornerstone for professionals and researchers working to prevent and respond to child maltreatment. Now in its 33rd year\, this go-to conference continues to bring together the field’s most respected voices and emerging innovators for a one-of-a-kind learning and networking experience. \nThe 33rd APSAC Colloquium brings together professionals\, researchers\, and advocates who believe that real progress happens when we connect across disciplines\, solve with shared purpose\, and bridge gaps in systems\, communities\, and understanding. Set in vibrant New Orleans\, where collaboration and culture meet\, this year’s gathering invites voices to come together -where various voices harmonize like jazz\, creating bold\, lasting solutions for children and families. \nFor the third year in a row\, the Colloquium returns to New Orleans—a city where scholarship meets soul. Attendees don’t just come for the sessions—they return for the connection\, culture\, and community. Past participants have paraded in second lines\, joined jazz-infused bar crawls\, and built meaningful collaborations over beignets and bold ideas. \nSchedule\n\nPre-Conference Institutes: Sunday\, June 14\, 2026\nAPSAC’s 32nd Colloquium: Monday\, June 15 – Thursday\, June 18\, 2025\n\nRegister through APSAC\nEarly Bird Rates end on Wednesday\, December 31\, 2025
URL:https://minnesotachildrensalliance.org/training/2026-apsac-colloquium/
LOCATION:Sheran Hotel\, 500 Canal Street\, New Orleans\, LA\, 70130\, United States
CATEGORIES:Advocacy,Children's Advocacy Centers,Forensic Interview,Investigation,Medical,Mental Health,Multidisciplinary teams,Online Webinar,Research,Special Events,Trauma-Informed Practice
END:VEVENT
BEGIN:VEVENT
DTSTART;TZID=America/Chicago:20260616T100000
DTEND;TZID=America/Chicago:20260616T113000
DTSTAMP:20260424T031804
CREATED:20251008T202418Z
LAST-MODIFIED:20251008T202418Z
UID:10001363-1781604000-1781609400@minnesotachildrensalliance.org
SUMMARY:First Witness | Building Advocacy Relationships with Resistive and Reluctant Caregivers
DESCRIPTION:Training Overview\nThis session will guide advocates to dive deeper into the relationships that they have with social services and law enforcement alongside the families they serve in the advocacy role. We will discuss the implications and intersectionality of “non-compliant” caregivers throughout a criminal case and/or child maltreatment investigation. The training will share the advocacy perspective rooted in the work of Ellen Pence and the Advocacy Learning Center\, bridging grassroots work of domestic violence to the child advocacy center field. Participants will learn how to better advocate for caregivers labeled as non-compliant\, resistive\, or reluctant. \nRegister Through First Witness
URL:https://minnesotachildrensalliance.org/training/first-witness-building-advocacy-relationships-with-resistive-and-reluctant-caregivers/
LOCATION:Online Webinar
CATEGORIES:Advocacy,Children's Advocacy Centers,Forensic Interview,Investigation,Medical,Mental Health,Multidisciplinary teams,Online Webinar,Problematic Sexual Behaviors,Trauma-Informed Practice
ORGANIZER;CN="First Witness":MAILTO:Info@firstwitness.org
END:VEVENT
BEGIN:VEVENT
DTSTART;VALUE=DATE:20260707
DTEND;VALUE=DATE:20260710
DTSTAMP:20260424T031804
CREATED:20251008T202601Z
LAST-MODIFIED:20251008T202601Z
UID:10001364-1783382400-1783641599@minnesotachildrensalliance.org
SUMMARY:First Witness | Training for Advocates Working with a CAC©
DESCRIPTION:Training Overview\nThis training meets all essential training components in the 2023 National Children’s Alliance (NCA) Standard of Victim Advocacy and has been approved by the NCA.  First Witness Child Advocacy Center’s advocacy program bridges the gap between individual advocacy with one victim and system-based advocacy that creates change for many victims. This contrasts with more restrictive advocacy models that are based on delivering services identified by practitioners and systems rather than victims. \nThrough hands-on practice\, participants will learn how to put advocacy principles into action\, including: \n\nExamining advocacy principles through the lens of their organization\,\nChanging organizations and systems\, and\nCreating programs and interventions that meet victims’ needs.\n\nParticipants will practice skills for effective crisis intervention and advocacy\, problem solving\, and decision making around the toughest issues in advocacy work. \nRegister Through First Witness
URL:https://minnesotachildrensalliance.org/training/first-witness-training-for-advocates-working-with-a-cac-18/
LOCATION:First Witness\, 1402 E 2nd Street\, Duluth\, MN\, 55805\, United States
CATEGORIES:Advocacy,Children's Advocacy Centers,Online Webinar
ORGANIZER;CN="First Witness":MAILTO:Info@firstwitness.org
END:VEVENT
BEGIN:VEVENT
DTSTART;TZID=America/Chicago:20260716T120000
DTEND;TZID=America/Chicago:20260716T130000
DTSTAMP:20260424T031804
CREATED:20260108T185524Z
LAST-MODIFIED:20260324T165918Z
UID:10001451-1784203200-1784206800@minnesotachildrensalliance.org
SUMMARY:APSAC Prevention Series
DESCRIPTION:Training Overview\nThe APSAC Prevention Series returns in 2026 will be held on the 3rd Thursday of the month. This is a monthly opportunity to learn from leading experts in child maltreatment prevention and child well-being offered to expand your toolkit with the strategies and resources needed to implement effective prevention practices and improve outcomes for children and families. \nTraining Topics\nPillars of Support: Integrating Prevention Aftercare in Child Welfare\nThursday\, January 15\, 2026 \nScrolling\, Streaming\, and Sexual Decision-Making: How Media Impacts Youth and Adolescents\nThursday\, February 19\, 2026 \nEvaluation Child Sexual Abuse Prevention Policies in the United States: Lessons Learned\nThursday\, March 19\, 2026 \nHope in Action: Science-Driven Strategies to Prevent Child Sexual Abuse\nThursday\, April 16\, 2026 \nHandle with Care\nThursday\, July 16\, 2026 \nPreventing Child Abuse Through Connection and Support: Lessons from WhatsOK\nThursday\, August 20\, 2026 \nChild Abuse Prevention for Clergy & Faith Leaders\nThursday\, September 17\, 2026 \nDon’t Throw Away the Candy Wrapper\nThursday\, October 15\, 2026 \nLong-Term Health Care Savings of Preventing Child Maltreatment\nThursday\, November 19\, 2026 \nPreventing Sibling Aggression and Abuse\nThursday\, December 17\, 2026 \nRegister Through APSAC\nMember Registration: Free\nNon-Member Registration: $149
URL:https://minnesotachildrensalliance.org/training/apsac-prevention-series-2/2026-07-16/
LOCATION:Online Webinar
CATEGORIES:Advocacy,Children's Advocacy Centers,Multidisciplinary teams,Online Webinar,Special Events,Technology
END:VEVENT
BEGIN:VEVENT
DTSTART;TZID=America/Chicago:20260917T120000
DTEND;TZID=America/Chicago:20260917T130000
DTSTAMP:20260424T031804
CREATED:20260108T185524Z
LAST-MODIFIED:20260324T165918Z
UID:10001477-1789646400-1789650000@minnesotachildrensalliance.org
SUMMARY:APSAC Prevention Series
DESCRIPTION:Training Overview\nThe APSAC Prevention Series returns in 2026 will be held on the 3rd Thursday of the month. This is a monthly opportunity to learn from leading experts in child maltreatment prevention and child well-being offered to expand your toolkit with the strategies and resources needed to implement effective prevention practices and improve outcomes for children and families. \nTraining Topics\nPillars of Support: Integrating Prevention Aftercare in Child Welfare\nThursday\, January 15\, 2026 \nScrolling\, Streaming\, and Sexual Decision-Making: How Media Impacts Youth and Adolescents\nThursday\, February 19\, 2026 \nEvaluation Child Sexual Abuse Prevention Policies in the United States: Lessons Learned\nThursday\, March 19\, 2026 \nHope in Action: Science-Driven Strategies to Prevent Child Sexual Abuse\nThursday\, April 16\, 2026 \nHandle with Care\nThursday\, July 16\, 2026 \nPreventing Child Abuse Through Connection and Support: Lessons from WhatsOK\nThursday\, August 20\, 2026 \nChild Abuse Prevention for Clergy & Faith Leaders\nThursday\, September 17\, 2026 \nDon’t Throw Away the Candy Wrapper\nThursday\, October 15\, 2026 \nLong-Term Health Care Savings of Preventing Child Maltreatment\nThursday\, November 19\, 2026 \nPreventing Sibling Aggression and Abuse\nThursday\, December 17\, 2026 \nRegister Through APSAC\nMember Registration: Free\nNon-Member Registration: $149
URL:https://minnesotachildrensalliance.org/training/apsac-prevention-series-2/2026-09-17/
LOCATION:Online Webinar
CATEGORIES:Advocacy,Children's Advocacy Centers,Multidisciplinary teams,Online Webinar,Special Events,Technology
END:VEVENT
BEGIN:VEVENT
DTSTART;TZID=America/Chicago:20261006T100000
DTEND;TZID=America/Chicago:20261006T113000
DTSTAMP:20260424T031804
CREATED:20260323T193119Z
LAST-MODIFIED:20260323T193119Z
UID:10001533-1791280800-1791286200@minnesotachildrensalliance.org
SUMMARY:First Witness | Courtroom Advocacy for Non-Legal Advocates
DESCRIPTION:Training Overview\nFor many families that experience child abuse\, pursuing legal action through the court system can be a step in their healing process. As community-based advocates\, ongoing advocacy may include guiding a family through the court system\, whether that involves criminal or civil court proceedings. This training helps participants gain skills and practical tools in how they can support families in the court process. We will also build knowledge on how the court system works and defines court terms that most laypersons may not understand without legal training. \nRegister Through First Witness
URL:https://minnesotachildrensalliance.org/training/first-witness-courtroom-advocacy-for-non-legal-advocates/
LOCATION:Online Webinar
CATEGORIES:Advocacy
ORGANIZER;CN="First Witness":MAILTO:Info@firstwitness.org
END:VEVENT
BEGIN:VEVENT
DTSTART;TZID=America/Chicago:20261008T120000
DTEND;TZID=America/Chicago:20261008T130000
DTSTAMP:20260424T031804
CREATED:20260324T181042Z
LAST-MODIFIED:20260324T181042Z
UID:10001545-1791460800-1791464400@minnesotachildrensalliance.org
SUMMARY:APSAC | Advocacy: Supporting Parents of Children with Disabilities
DESCRIPTION:Training Overview\nThis workshop will share strategies to help you model for parents what to say and actions to take in order to obtain needed programs\, benefits\, entitlements and services for their child with a disability. We will share possible barriers and strategies to hopefully help our families overcome those barriers so they can be the best possible advocates for their child and family.  The session will allow participants to share their own advocacy victories as well as get feedback pertaining to current difficulties they might be encountering while trying to advocate on behalf of parents.  It take more than a village these days\, it takes a universe of dedicated advocates to help our vulnerable families. \nRegister Through APSAC
URL:https://minnesotachildrensalliance.org/training/apsac-advocacy-supporting-parents-of-children-with-disabilities/
LOCATION:Online Webinar
CATEGORIES:Advocacy,Online Webinar
END:VEVENT
BEGIN:VEVENT
DTSTART;TZID=America/Chicago:20261015T120000
DTEND;TZID=America/Chicago:20261015T130000
DTSTAMP:20260424T031804
CREATED:20260108T185524Z
LAST-MODIFIED:20260324T165918Z
UID:10001541-1792065600-1792069200@minnesotachildrensalliance.org
SUMMARY:APSAC Prevention Series
DESCRIPTION:Training Overview\nThe APSAC Prevention Series returns in 2026 will be held on the 3rd Thursday of the month. This is a monthly opportunity to learn from leading experts in child maltreatment prevention and child well-being offered to expand your toolkit with the strategies and resources needed to implement effective prevention practices and improve outcomes for children and families. \nTraining Topics\nPillars of Support: Integrating Prevention Aftercare in Child Welfare\nThursday\, January 15\, 2026 \nScrolling\, Streaming\, and Sexual Decision-Making: How Media Impacts Youth and Adolescents\nThursday\, February 19\, 2026 \nEvaluation Child Sexual Abuse Prevention Policies in the United States: Lessons Learned\nThursday\, March 19\, 2026 \nHope in Action: Science-Driven Strategies to Prevent Child Sexual Abuse\nThursday\, April 16\, 2026 \nHandle with Care\nThursday\, July 16\, 2026 \nPreventing Child Abuse Through Connection and Support: Lessons from WhatsOK\nThursday\, August 20\, 2026 \nChild Abuse Prevention for Clergy & Faith Leaders\nThursday\, September 17\, 2026 \nDon’t Throw Away the Candy Wrapper\nThursday\, October 15\, 2026 \nLong-Term Health Care Savings of Preventing Child Maltreatment\nThursday\, November 19\, 2026 \nPreventing Sibling Aggression and Abuse\nThursday\, December 17\, 2026 \nRegister Through APSAC\nMember Registration: Free\nNon-Member Registration: $149
URL:https://minnesotachildrensalliance.org/training/apsac-prevention-series-2/2026-10-15/
LOCATION:Online Webinar
CATEGORIES:Advocacy,Children's Advocacy Centers,Multidisciplinary teams,Online Webinar,Special Events,Technology
END:VEVENT
BEGIN:VEVENT
DTSTART;VALUE=DATE:20261019
DTEND;VALUE=DATE:20261024
DTSTAMP:20260424T031804
CREATED:20260323T193000Z
LAST-MODIFIED:20260323T193000Z
UID:10001532-1792368000-1792799999@minnesotachildrensalliance.org
SUMMARY:First Witness Training for Advocates Working with a CAC
DESCRIPTION:Training Overview\nThis training meets all essential training components in the 2023 National Children’s Alliance (NCA) Standard of Victim Advocacy and has been approved by the NCA. \nFirst Witness Child Advocacy Center’s advocacy program bridges the gap between individual advocacy with one victim and system-based advocacy that creates change for many victims. This contrasts with more restrictive advocacy models that are based on delivering services identified by practitioners and systems rather than victims. \nThrough hands-on practice\, participants will learn how to put advocacy principles into action\, including: \n\nExamining advocacy principles through the lens of their organization\nChanging organizations and systems\, and\nCreating programs and interventions that meet victims’ needs.\n\nParticipants will practice skills for effective crisis intervention and advocacy\, problem-solving\, and decision-making around the toughest issues in advocacy work. \nRegister Through First Witness\n 
URL:https://minnesotachildrensalliance.org/training/first-witness-training-for-advocates-working-with-a-cac-19/
LOCATION:Online Webinar
CATEGORIES:Advocacy
ORGANIZER;CN="First Witness":MAILTO:Info@firstwitness.org
END:VEVENT
BEGIN:VEVENT
DTSTART;TZID=America/Chicago:20261119T120000
DTEND;TZID=America/Chicago:20261119T130000
DTSTAMP:20260424T031804
CREATED:20260108T185524Z
LAST-MODIFIED:20260324T165918Z
UID:10001452-1795089600-1795093200@minnesotachildrensalliance.org
SUMMARY:APSAC Prevention Series
DESCRIPTION:Training Overview\nThe APSAC Prevention Series returns in 2026 will be held on the 3rd Thursday of the month. This is a monthly opportunity to learn from leading experts in child maltreatment prevention and child well-being offered to expand your toolkit with the strategies and resources needed to implement effective prevention practices and improve outcomes for children and families. \nTraining Topics\nPillars of Support: Integrating Prevention Aftercare in Child Welfare\nThursday\, January 15\, 2026 \nScrolling\, Streaming\, and Sexual Decision-Making: How Media Impacts Youth and Adolescents\nThursday\, February 19\, 2026 \nEvaluation Child Sexual Abuse Prevention Policies in the United States: Lessons Learned\nThursday\, March 19\, 2026 \nHope in Action: Science-Driven Strategies to Prevent Child Sexual Abuse\nThursday\, April 16\, 2026 \nHandle with Care\nThursday\, July 16\, 2026 \nPreventing Child Abuse Through Connection and Support: Lessons from WhatsOK\nThursday\, August 20\, 2026 \nChild Abuse Prevention for Clergy & Faith Leaders\nThursday\, September 17\, 2026 \nDon’t Throw Away the Candy Wrapper\nThursday\, October 15\, 2026 \nLong-Term Health Care Savings of Preventing Child Maltreatment\nThursday\, November 19\, 2026 \nPreventing Sibling Aggression and Abuse\nThursday\, December 17\, 2026 \nRegister Through APSAC\nMember Registration: Free\nNon-Member Registration: $149
URL:https://minnesotachildrensalliance.org/training/apsac-prevention-series-2/2026-11-19/
LOCATION:Online Webinar
CATEGORIES:Advocacy,Children's Advocacy Centers,Multidisciplinary teams,Online Webinar,Special Events,Technology
END:VEVENT
BEGIN:VEVENT
DTSTART;TZID=America/Chicago:20261217T120000
DTEND;TZID=America/Chicago:20261217T130000
DTSTAMP:20260424T031804
CREATED:20260108T185524Z
LAST-MODIFIED:20260324T165918Z
UID:10001542-1797508800-1797512400@minnesotachildrensalliance.org
SUMMARY:APSAC Prevention Series
DESCRIPTION:Training Overview\nThe APSAC Prevention Series returns in 2026 will be held on the 3rd Thursday of the month. This is a monthly opportunity to learn from leading experts in child maltreatment prevention and child well-being offered to expand your toolkit with the strategies and resources needed to implement effective prevention practices and improve outcomes for children and families. \nTraining Topics\nPillars of Support: Integrating Prevention Aftercare in Child Welfare\nThursday\, January 15\, 2026 \nScrolling\, Streaming\, and Sexual Decision-Making: How Media Impacts Youth and Adolescents\nThursday\, February 19\, 2026 \nEvaluation Child Sexual Abuse Prevention Policies in the United States: Lessons Learned\nThursday\, March 19\, 2026 \nHope in Action: Science-Driven Strategies to Prevent Child Sexual Abuse\nThursday\, April 16\, 2026 \nHandle with Care\nThursday\, July 16\, 2026 \nPreventing Child Abuse Through Connection and Support: Lessons from WhatsOK\nThursday\, August 20\, 2026 \nChild Abuse Prevention for Clergy & Faith Leaders\nThursday\, September 17\, 2026 \nDon’t Throw Away the Candy Wrapper\nThursday\, October 15\, 2026 \nLong-Term Health Care Savings of Preventing Child Maltreatment\nThursday\, November 19\, 2026 \nPreventing Sibling Aggression and Abuse\nThursday\, December 17\, 2026 \nRegister Through APSAC\nMember Registration: Free\nNon-Member Registration: $149
URL:https://minnesotachildrensalliance.org/training/apsac-prevention-series-2/2026-12-17/
LOCATION:Online Webinar
CATEGORIES:Advocacy,Children's Advocacy Centers,Multidisciplinary teams,Online Webinar,Special Events,Technology
END:VEVENT
END:VCALENDAR