BEGIN:VCALENDAR
VERSION:2.0
PRODID:-//Minnesota Children&#039;s Alliance - ECPv6.15.17.1//NONSGML v1.0//EN
CALSCALE:GREGORIAN
METHOD:PUBLISH
X-ORIGINAL-URL:https://minnesotachildrensalliance.org
X-WR-CALDESC:Events for Minnesota Children&#039;s Alliance
REFRESH-INTERVAL;VALUE=DURATION:PT1H
X-Robots-Tag:noindex
X-PUBLISHED-TTL:PT1H
BEGIN:VTIMEZONE
TZID:America/Chicago
BEGIN:DAYLIGHT
TZOFFSETFROM:-0600
TZOFFSETTO:-0500
TZNAME:CDT
DTSTART:20190310T080000
END:DAYLIGHT
BEGIN:STANDARD
TZOFFSETFROM:-0500
TZOFFSETTO:-0600
TZNAME:CST
DTSTART:20191103T070000
END:STANDARD
BEGIN:DAYLIGHT
TZOFFSETFROM:-0600
TZOFFSETTO:-0500
TZNAME:CDT
DTSTART:20200308T080000
END:DAYLIGHT
BEGIN:STANDARD
TZOFFSETFROM:-0500
TZOFFSETTO:-0600
TZNAME:CST
DTSTART:20201101T070000
END:STANDARD
BEGIN:DAYLIGHT
TZOFFSETFROM:-0600
TZOFFSETTO:-0500
TZNAME:CDT
DTSTART:20210314T080000
END:DAYLIGHT
BEGIN:STANDARD
TZOFFSETFROM:-0500
TZOFFSETTO:-0600
TZNAME:CST
DTSTART:20211107T070000
END:STANDARD
END:VTIMEZONE
BEGIN:VEVENT
DTSTART;TZID=America/Chicago:20200630T130000
DTEND;TZID=America/Chicago:20200630T140000
DTSTAMP:20260422T115745
CREATED:20200622T182120Z
LAST-MODIFIED:20200622T182157Z
UID:10000230-1593522000-1593525600@minnesotachildrensalliance.org
SUMMARY:Indian Child Welfare: Practice Impacts and Responses to COVID-19 in State Agencies
DESCRIPTION:Webinar Overview\nJoin NICWA for a webinar with state Indian child welfare professionals to hear discussions about impacts to state agency services and implementation of the Indian Child Welfare Act during the pandemic. \nRegister online. \nPanelists:\n\nYvonne Barrett\, Manager of Indian Child Welfare Act Program\, Minnesota Department of Human Services\nAdam Becenti\, Director of Tribal Affairs\, Oregon Department of Human Services\nNatalie Norberg\, Director of the Office of Children’s Services\, Alaska Department of Health and Social Services\nTleena Ives\, Director of Tribal Relations\, Washington Department of Children\, Youth\, and Families\nModerator: David Simmons\, Government Affairs and Advocacy Director\, NICWA
URL:https://minnesotachildrensalliance.org/training/indian-child-welfare-practice-impacts-and-responses-to-covid-19-in-state-agencies/
LOCATION:Online Webinar
CATEGORIES:COVID-19,Online Webinar
END:VEVENT
BEGIN:VEVENT
DTSTART;TZID=America/Chicago:20200529T120000
DTEND;TZID=America/Chicago:20200529T130000
DTSTAMP:20260422T115745
CREATED:20200519T165504Z
LAST-MODIFIED:20200519T165504Z
UID:10000223-1590753600-1590757200@minnesotachildrensalliance.org
SUMMARY:Protecting Minors’ Privacy While Working Remotely
DESCRIPTION:Webinar Overview\nThis May\, the Victim Rights Law Center’s privacy team is offering a series of web-conversations on protecting privacy while working remotely. We invite OVW-funded victim service providers to join these webinars + Q & A on general privacy issues\, VAWA-compliant releases of information\, and protecting minors’ privacy. We will share some key information and have chat-based conversations about issues you are facing. \nRegister online.
URL:https://minnesotachildrensalliance.org/training/protecting-minors-privacy-while-working-remotely/
LOCATION:Online Webinar
CATEGORIES:Confidentiality,COVID-19,Online Webinar
END:VEVENT
BEGIN:VEVENT
DTSTART;TZID=America/Chicago:20200526T130000
DTEND;TZID=America/Chicago:20200526T140000
DTSTAMP:20260422T115745
CREATED:20200519T164841Z
LAST-MODIFIED:20200519T164841Z
UID:10000221-1590498000-1590501600@minnesotachildrensalliance.org
SUMMARY:Language Access: The Lessons that COVID-19 have Reinforced
DESCRIPTION:Webinar Overview\nThe current COVID-19 crisis is not over yet; however\, in a short time we have seen how gaps in the system for language access are exacerbated by a pandemic. Did we know what to do in a crisis? Were we prepared to ensure that everyone had access to information and services in their first language? What do we do during an emergency or a disaster? How does our language access plan monitoring help us achieve a more organized response? What went wrong\, and how can we be sure that we do not make those mistakes again? \nThrough this virtual training we will share lessons learned and answer these and other questions regarding language access preparedness\, responsiveness and monitoring. Hosted by the National Resource Center for Reaching Victims. Register online. \nObjectives\n\nUnderstand the implications and impact of the COVID-19 crisis on Limited English Proficient communities and survivors;\nLearn about language access compliance and monitoring and how they can be our guide for language access emergency preparedness; and\nCreate a framework under which programs can create policies and protocols that facilitate access during a crisis.\n\nPresenter\nLeo Martinez\nProject Manager  at Casa de Esperanza\nLeo Martinez is a technical assistance lead for the National Resource Center for Reaching Victims and is responsible for leading the NRC’s work around survivors with Limited English Proficiency and immigrant survivors . He collaborates with other national partners to inform the framework\, advise the process\, organize some of the initiatives and activities and provide support to other stakeholders within the resource center. He provides training and technical assistance to coalitions\, organizations\, advocates and grassroots community activists conducting activities with victims of crime in underserved communities.
URL:https://minnesotachildrensalliance.org/training/language-access-the-lessons-that-covid-19-have-reinforced/
LOCATION:Online Webinar
CATEGORIES:Advocacy,Children's Advocacy Centers,COVID-19,Equity,Online Webinar
END:VEVENT
BEGIN:VEVENT
DTSTART;TZID=America/Chicago:20200522T120000
DTEND;TZID=America/Chicago:20200522T130000
DTSTAMP:20260422T115745
CREATED:20200519T165303Z
LAST-MODIFIED:20200519T165303Z
UID:10000222-1590148800-1590152400@minnesotachildrensalliance.org
SUMMARY:Releases of Information During the Pandemic
DESCRIPTION:Webinar Overview\nThis May\, the Victim Rights Law Center’s privacy team is offering a series of web-conversations on protecting privacy while working remotely. We invite OVW-funded victim service providers to join these webinars + Q & A on general privacy issues\, VAWA-compliant releases of information\, and protecting minors’ privacy. We will share some key information and have chat-based conversations about issues you are facing. \nRegister Online.
URL:https://minnesotachildrensalliance.org/training/releases-of-information-during-the-pandemic/
LOCATION:Online Webinar
CATEGORIES:Advocacy,Children's Advocacy Centers,Confidentiality,COVID-19,Multidisciplinary teams,Online Webinar
END:VEVENT
BEGIN:VEVENT
DTSTART;TZID=America/Chicago:20200521T133000
DTEND;TZID=America/Chicago:20200521T143000
DTSTAMP:20260422T115745
CREATED:20200519T163315Z
LAST-MODIFIED:20200519T164922Z
UID:10000220-1590067800-1590071400@minnesotachildrensalliance.org
SUMMARY:Racial Equity During and After the COVID-19 Pandemic
DESCRIPTION:Webinar Overview\nA live conversation with NLIHC’s Diane Yentel and bestselling author Dr. Ibram X. Kendi \nMay 21\, 2020 / 2:30 p.m. – 3:30 p.m. ET\, 1:30 p.m. – 2:30 p.m. CT. Register online. \nJoin Dr. Ibram X. Kendi\, one of America’s foremost historians and leading antiracist voices\, and Diane Yentel\, president and CEO of the NLIHC\, for a conversation on how our housing and homelessness response to COVID-19 must center racial equity and address systemic inequities and discrimination. #RacialEquityandCOVID \nPresenters\nDr. Ibram X. Kendi\nDr. IBRAM X. KENDI is one of America’s foremost historians and leading antiracist voices. He is a #1 New York Times bestselling author and the Founding Director of The Antiracist Research & Policy Center at American University in Washington\, DC. A professor of history and international relations\, Kendi is a contributor at The Atlantic and CBS News. He is the author of THE BLACK CAMPUS MOVEMENT\, which won the W.E.B. Du Bois Book Prize\, and STAMPED FROM THE BEGINNING: THE DEFINITIVE HISTORY OF RACIST IDEAS IN AMERICA\, which won the National Book Award for Nonfiction in 2016. At 34 years old\, Kendi was the youngest ever winner of the NBA for Nonfiction. He grew up dreaming about playing in the NBA (National Basketball Association)\, and ironically he ended up joining the other NBA. \nHis third book\, HOW TO BE AN ANTIRACIST\, debuted at #2 on the New York Times Bestseller List in August 2019 and made several Best Books of 2019 lists. His much anticipated fourth book with Jason Reynolds\, STAMPED: RACISM\, ANTIRACISM\, AND YOU\, debuted at # 1 on the New York Times Bestseller List in March 2020. \nDiane Yentel\nDIANE YENTEL is the President and CEO of the National Low Income Housing Coalition\, a membership organization dedicated solely to achieving socially just public policy that ensures people with the lowest incomes in the United States have affordable and decent homes. Diane is a veteran affordable housing policy expert with nearly two decades of work on affordable housing and community development. Before rejoining NLIHC (where she previously worked as a policy analyst)\, Diane was Vice President of Public Policy and Government Affairs at Enterprise Community Partners\, where she led federal\, state and local policy\, research and advocacy programs. Prior to Enterprise\, Diane was the director of the Public Housing Management and Occupancy Division at the US Department of Housing and Urban Development (HUD)\, where she managed a team overseeing the development and implementation of nationwide public housing policies\, procedures\, and guidelines. She also worked to advance affordable housing policies with Oxfam America and the Massachusetts Coalition for the Homeless and served for 3 years as a community development Peace Corps volunteer in Zambia. Diane is frequently quoted in major media outlets\, and has testified multiple time before Congress. Diane has a Masters in Social work from the University of Texas at Austin.
URL:https://minnesotachildrensalliance.org/training/racial-equity-during-and-after-the-covid-19-pandemic/
LOCATION:Online Webinar
CATEGORIES:Advocacy,COVID-19,Equity,Online Webinar
END:VEVENT
BEGIN:VEVENT
DTSTART;TZID=America/Chicago:20200422T130000
DTEND;TZID=America/Chicago:20200422T140000
DTSTAMP:20260422T115745
CREATED:20200416T154052Z
LAST-MODIFIED:20200416T154128Z
UID:10000210-1587560400-1587564000@minnesotachildrensalliance.org
SUMMARY:Webinar: Issues\, Rights and Concerns During COVID-19
DESCRIPTION:COVID-19 has created an unprecedented time of crisis for all involved in the criminal justice system\, and agencies are struggling to adapt to this new normal. Join the National Center for Victims of Crime and the Association of Prosecuting Attorneys for a discussion on how to preserve the rights of crime victims during this pandemic. \nSpeakers will discuss the needs of victims during this crisis\, including notification of release\, as well as considerations for those who are reentering their communities. The webinar will feature speakers from Milwaukee County to discuss their victims’ services and virtual capabilities for domestic violence and child abuse cases\, and the Bronx to discuss how they are using their reentry team to ensure individuals are able to protect the rights and safety of victims. \nRegister Online\nRegistration is available online through the APA website.
URL:https://minnesotachildrensalliance.org/training/webinar-issues-rights-and-concerns-during-covid-19/
LOCATION:Online Webinar
CATEGORIES:Children's Advocacy Centers,COVID-19,Multidisciplinary teams,Online Webinar
ATTACH;FMTTYPE=image/png:https://minnesotachildrensalliance.org/wp-content/uploads/2020/04/APA-COVID19-Webinar.png
END:VEVENT
END:VCALENDAR