BEGIN:VCALENDAR
VERSION:2.0
PRODID:-//Minnesota Children&#039;s Alliance - ECPv6.15.17.1//NONSGML v1.0//EN
CALSCALE:GREGORIAN
METHOD:PUBLISH
X-ORIGINAL-URL:https://minnesotachildrensalliance.org
X-WR-CALDESC:Events for Minnesota Children&#039;s Alliance
REFRESH-INTERVAL;VALUE=DURATION:PT1H
X-Robots-Tag:noindex
X-PUBLISHED-TTL:PT1H
BEGIN:VTIMEZONE
TZID:America/Chicago
BEGIN:DAYLIGHT
TZOFFSETFROM:-0600
TZOFFSETTO:-0500
TZNAME:CDT
DTSTART:20250309T080000
END:DAYLIGHT
BEGIN:STANDARD
TZOFFSETFROM:-0500
TZOFFSETTO:-0600
TZNAME:CST
DTSTART:20251102T070000
END:STANDARD
BEGIN:DAYLIGHT
TZOFFSETFROM:-0600
TZOFFSETTO:-0500
TZNAME:CDT
DTSTART:20260308T080000
END:DAYLIGHT
BEGIN:STANDARD
TZOFFSETFROM:-0500
TZOFFSETTO:-0600
TZNAME:CST
DTSTART:20261101T070000
END:STANDARD
BEGIN:DAYLIGHT
TZOFFSETFROM:-0600
TZOFFSETTO:-0500
TZNAME:CDT
DTSTART:20270314T080000
END:DAYLIGHT
BEGIN:STANDARD
TZOFFSETFROM:-0500
TZOFFSETTO:-0600
TZNAME:CST
DTSTART:20271107T070000
END:STANDARD
END:VTIMEZONE
BEGIN:VEVENT
DTSTART;TZID=America/Chicago:20260422T140000
DTEND;TZID=America/Chicago:20260422T150000
DTSTAMP:20260421T073537
CREATED:20260225T211006Z
LAST-MODIFIED:20260225T211018Z
UID:10001496-1776866400-1776870000@minnesotachildrensalliance.org
SUMMARY:IVAT How Does Trafficking Happen and How to Respond? Grooming\, Trauma Bonding\, and Trauma-Informed Care
DESCRIPTION:Training Overview\nThis training explains how individuals are recruited or groomed into trafficking situations\, and debunks common myths – including that trafficking involves kidnapping and forcible confinement. We will take a deep dive into the “Romeo” or “boyfriend” trafficking strategy. A framework involving 6 stages of grooming into trafficking is introduced\, which leads into a discussion of trauma-informed strategies for interacting with suspected or confirmed trafficking victims. The presentation introduces a number of myths related to human trafficking\, replacing them with facts\, with the final myth being that victims will self-disclose their exploitation. There are many reasons why victims do not self-disclose\, and we must be sensitive to these dynamics. At the end of the training\, participants will be able to identify stages of grooming\, differentiate strategies of trauma-informed care\, and explain trauma bonding. \nRegister through IVAT\n 
URL:https://minnesotachildrensalliance.org/training/ivat-making-the-record-for-appeal-2/
LOCATION:Online Webinar
CATEGORIES:Online Webinar,Trafficking,Trauma-Informed Practice
END:VEVENT
BEGIN:VEVENT
DTSTART;TZID=America/Chicago:20260430T140000
DTEND;TZID=America/Chicago:20260430T151500
DTSTAMP:20260421T073537
CREATED:20260324T205523Z
LAST-MODIFIED:20260324T205523Z
UID:10001554-1777557600-1777562100@minnesotachildrensalliance.org
SUMMARY:Justice Clearinghouse Human Trafficking of Youth in the Digital Age
DESCRIPTION:Training Overview\nAn estimated 50 million people worldwide are victims of human trafficking. In the United States alone\, approximately 400\,000 individuals are exploited through sex trafficking\, labor trafficking\, or domestic servitude. Traffickers earn an estimated $240 billion annually\, more than the combined revenue of major Fortune 500 companies such as Apple\, Amazon\, Disney\, General Motors\, and Ford. \nStatistics show that one in four trafficking victims is a child. Nearly 95% of teens between the ages of 13 and 17 have an online presence\, and half report being online constantly. Traffickers have adapted to this reality by using social media\, gaming platforms\, and messaging applications to groom and recruit youth. \nThis webinar examines how traffickers leverage modern technology to target children\, reviews commonly used online platforms\, and discusses the digital tools exploited to facilitate child trafficking. \nRegister Through Justice Clearinghouse\n 
URL:https://minnesotachildrensalliance.org/training/justice-clearinghouse-human-trafficking-of-youth-in-the-digital-age/
LOCATION:Online Webinar
CATEGORIES:Online Webinar,Trafficking
END:VEVENT
BEGIN:VEVENT
DTSTART;TZID=America/Chicago:20260519T120000
DTEND;TZID=America/Chicago:20260519T131500
DTSTAMP:20260421T073537
CREATED:20260324T205643Z
LAST-MODIFIED:20260324T205643Z
UID:10001555-1779192000-1779196500@minnesotachildrensalliance.org
SUMMARY:Justice Clearinghouse Supporting Caregivers of Kids in the Criminal Justice and Social Services System
DESCRIPTION:Training Overview\nCaregivers of youth involved in the criminal justice or child welfare systems often receive mandated services—like parenting groups—but those working on the front lines are rarely given the tools to evaluate whether these services are actually helpful or evidence-based. \nThis webinar focuses on the behavioral health needs of caregivers and how to support them effectively. (Did you know that one of the strongest predictors of whether a parent training program works is whether it includes direct\, hands-on practice with the caregiver?) \nUsing real-world examples—from the fact that grandparents are now the largest group of foster parents in North America\, to therapies like PCIT designed specifically for abusive or neglectful caregivers—this session offers practical strategies\, tools\, and insights for providers working with families across child welfare and juvenile justice systems. \nRegister Through Justice Clearinghouse\n 
URL:https://minnesotachildrensalliance.org/training/justice-clearinghouse-supporting-caregivers-of-kids-in-the-criminal-justice-and-social-services-system/
LOCATION:Online Webinar
CATEGORIES:Online Webinar,Trafficking
END:VEVENT
END:VCALENDAR