BEGIN:VCALENDAR
VERSION:2.0
PRODID:-//Minnesota Children&#039;s Alliance - ECPv6.15.17.1//NONSGML v1.0//EN
CALSCALE:GREGORIAN
METHOD:PUBLISH
X-WR-CALNAME:Minnesota Children&#039;s Alliance
X-ORIGINAL-URL:https://minnesotachildrensalliance.org
X-WR-CALDESC:Events for Minnesota Children&#039;s Alliance
REFRESH-INTERVAL;VALUE=DURATION:PT1H
X-Robots-Tag:noindex
X-PUBLISHED-TTL:PT1H
BEGIN:VTIMEZONE
TZID:America/Chicago
BEGIN:DAYLIGHT
TZOFFSETFROM:-0600
TZOFFSETTO:-0500
TZNAME:CDT
DTSTART:20230312T080000
END:DAYLIGHT
BEGIN:STANDARD
TZOFFSETFROM:-0500
TZOFFSETTO:-0600
TZNAME:CST
DTSTART:20231105T070000
END:STANDARD
BEGIN:DAYLIGHT
TZOFFSETFROM:-0600
TZOFFSETTO:-0500
TZNAME:CDT
DTSTART:20240310T080000
END:DAYLIGHT
BEGIN:STANDARD
TZOFFSETFROM:-0500
TZOFFSETTO:-0600
TZNAME:CST
DTSTART:20241103T070000
END:STANDARD
BEGIN:DAYLIGHT
TZOFFSETFROM:-0600
TZOFFSETTO:-0500
TZNAME:CDT
DTSTART:20250309T080000
END:DAYLIGHT
BEGIN:STANDARD
TZOFFSETFROM:-0500
TZOFFSETTO:-0600
TZNAME:CST
DTSTART:20251102T070000
END:STANDARD
END:VTIMEZONE
BEGIN:VEVENT
DTSTART;VALUE=DATE:20240923
DTEND;VALUE=DATE:20240925
DTSTAMP:20260420T061420
CREATED:20240730T153827Z
LAST-MODIFIED:20240730T153827Z
UID:10000917-1727049600-1727222399@minnesotachildrensalliance.org
SUMMARY:NCJTC Organizational Resiliency Starts With You!
DESCRIPTION:Training Overview\nDiscover the relationship between self-care and organizational resilience. Organizational resiliency promotes an inclusive work environment\, strengthens employee retention\, and improves workplace satisfaction. Gain strategies to understand\, assess and support work culture and morale. Explore how ethical leadership influences a resilient culture and how a focus on self-care impacts organizational effectiveness. This training suits community members\, corrections officers\, court system personnel\, educators\, emergency management\, law enforcement\, prosecutors\, social workers\, tribes/tribal partners\, and victim services providers. \nLearning Objectives\n\nLeverage new tools and opportunities to assess current overall personal health\nIdentify health pitfalls and methods to control health challenges\nApply how personal health contributes to the overall morale and health of an organization\nDemonstrate and apply tools and strategies agencies can use to assess and/or potentially improve organizational health\nConsider how healthy organizations create plans to manage health and morale on an ongoing basis\n\nAbout the Trainers\nDavid Frattare currently serves as the Statewide Commander for the Cuyahoga County Prosecutor’s Office\, Ohio Internet Crimes Against Children (ICAC) Task Force. Commander Frattare is responsible for the investigation\, coordination and supervision of investigations involving the sexual exploitation of children and serves as the national representative for the Internet Crimes Against Children program in Ohio. From 1997 to 2009\, Commander Frattare was employed as a Special Agent with the Pennsylvania Office of Attorney General’s Bureau of Criminal Investigation and Child Predator Unit. Commander Frattare is a Special Deputy with the Cuyahoga County Sheriff’s Office and a Task Force Officer with Homeland Security Investigations Cleveland. He is an Associate Instructor for the National Criminal Justice Training Center at Fox Valley Technical College\, a Law Enforcement Trainer for The Innocent Justice Foundation\, and a Senior Chaplain with the International Fellowship of Chaplains. \nMelissa Kaiser was the first Human Trafficking Navigator hired for Eastern North Dakota\, contracted with the North Dakota Human Trafficking Task Force. Melissa was employed with the Bureau of Criminal Investigations as their first Victim/Witness Specialist\, and assisted in creating the integrated victim services and law enforcement program in ND. Melissa graduated with a bachelor’s degree in social work from Minnesota State University Moorhead. She was a member of the North Dakota Human Trafficking Task Force for six years\, and during that time she was the vice chair of the Labor Trafficking Subcommittee. Melissa has trained over 11\,000 professionals and students on the topics of trafficking\, creating and maintaining multi-disciplinary teams\, and secondary traumatic stress. She currently lives in Clearwater\, FL\, and working nationally and internationally in the anti-human trafficking field. \nRegister at NCJTC\nRegister by Monday\, August 19\, 2024. \nThis fee includes 16 hours of training\, program materials\, instructional costs\, and refreshment breaks. Participants are responsible for costs and arrangements related to meals\, travel\, and lodging.
URL:https://minnesotachildrensalliance.org/training/ncjtc-organizational-resiliency-starts-with-you/
LOCATION:Fox Valley Technical College\, 1825 N Bluemound Drive\, Appleton\, WI\, 54914\, United States
CATEGORIES:Children's Advocacy Centers,Medical,Mental Health,Multidisciplinary teams
ORGANIZER;CN="National Criminal Justice Training Center Fox Valley Technical College":MAILTO:info@ncjtc.org
END:VEVENT
END:VCALENDAR