BEGIN:VCALENDAR
VERSION:2.0
PRODID:-//Minnesota Children&#039;s Alliance - ECPv6.15.17.1//NONSGML v1.0//EN
CALSCALE:GREGORIAN
METHOD:PUBLISH
X-ORIGINAL-URL:https://minnesotachildrensalliance.org
X-WR-CALDESC:Events for Minnesota Children&#039;s Alliance
REFRESH-INTERVAL;VALUE=DURATION:PT1H
X-Robots-Tag:noindex
X-PUBLISHED-TTL:PT1H
BEGIN:VTIMEZONE
TZID:America/Chicago
BEGIN:DAYLIGHT
TZOFFSETFROM:-0600
TZOFFSETTO:-0500
TZNAME:CDT
DTSTART:20180311T080000
END:DAYLIGHT
BEGIN:STANDARD
TZOFFSETFROM:-0500
TZOFFSETTO:-0600
TZNAME:CST
DTSTART:20181104T070000
END:STANDARD
BEGIN:DAYLIGHT
TZOFFSETFROM:-0600
TZOFFSETTO:-0500
TZNAME:CDT
DTSTART:20190310T080000
END:DAYLIGHT
BEGIN:STANDARD
TZOFFSETFROM:-0500
TZOFFSETTO:-0600
TZNAME:CST
DTSTART:20191103T070000
END:STANDARD
BEGIN:DAYLIGHT
TZOFFSETFROM:-0600
TZOFFSETTO:-0500
TZNAME:CDT
DTSTART:20200308T080000
END:DAYLIGHT
BEGIN:STANDARD
TZOFFSETFROM:-0500
TZOFFSETTO:-0600
TZNAME:CST
DTSTART:20201101T070000
END:STANDARD
END:VTIMEZONE
BEGIN:VEVENT
DTSTART;TZID=America/Chicago:20190725T130000
DTEND;TZID=America/Chicago:20190725T143000
DTSTAMP:20260422T161836
CREATED:20190415T190451Z
LAST-MODIFIED:20190814T201730Z
UID:10000173-1564059600-1564065000@minnesotachildrensalliance.org
SUMMARY:Emerging Tech: What Are the Current Trends for Teens and Kids?
DESCRIPTION:What are the current hot locations for teens to search on the Internet? This presentation will discuss the most current studies and provide demonstrations of where children are going on mobile devices and what kinds of actions they are taking. This presentation will demonstrate several of the newer applications for mobile devices that are popular for teenagers. Participants will learn about vault applications and the ability to secretly store information. Finally\, participants will also be shown the different emerging technological devices and the roles they are playing in potentially manipulating children. \nExpert Presenter\nJustin Fitzsimmons is the Program Manager of the High Tech Training Services division of SEARCH Group\, Inc. He trains at national\, state and local conferences on the subject of sexual and physical crimes against children. He is on the executive board of the National Children’s Alliance. He is licensed to practice law in Illinois and has significant experience as a prosecuting attorney. Prior to joining SEARCH Group he was a Senior Attorney with the National District Attorneys Association. He managed NDAA’s technology-facilitated child exploitation unit. Before joining NDAA he was the supervisor of the Special Prosecutions Unit of the Kane County State’s Attorney’s Office. He was also assigned to the Child Advocacy Center where he prosecuted sexual assault and severe physical abuse of children. \nRegister online
URL:https://minnesotachildrensalliance.org/training/emerging-tech-what-are-the-current-trends-for-teens-and-kids/
LOCATION:Online Webinar
CATEGORIES:Online Webinar,Technology
ATTACH;FMTTYPE=image/png:https://minnesotachildrensalliance.org/wp-content/uploads/2019/04/2019Large_Emerging.png
END:VEVENT
BEGIN:VEVENT
DTSTART;TZID=America/Chicago:20190613T130000
DTEND;TZID=America/Chicago:20190613T143000
DTSTAMP:20260422T161836
CREATED:20190415T190113Z
LAST-MODIFIED:20190516T142900Z
UID:10000172-1560430800-1560436200@minnesotachildrensalliance.org
SUMMARY:Trauma Informed Law Enforcement: Challenges and Successes with Implementation – Part Two
DESCRIPTION:Brief Overview\nThis presentation will focus on how Dr. Siders\, with staff from the Traverse Bay Children’s Advocacy Center\, worked to design and implement trauma-informed trainings with law enforcement partners. Additionally\, the work and challenges related to supporting law enforcement in being more open to a trauma-informed lens when discussing clients and families in teams meeting for forensic interviews and case review meetings will be discussed. An overview of essential components and stages of the training will be reviewed as well as the challenges encountered in implementing the program. An opportunity for discussion and reference materials will be provided to generate ideas on how to develop the programming in other communities. \nExpert Presenter\nAmelia Siders\, PhD\, is the Clinical Director of the Traverse Bay Children’s Advocacy Center. She is a Licensed Psychologist who has been providing treatment for survivors of abuse\, neglect\, and witness to violence for over 20 years. She is trained in TF-CBT\, EMDR\, and several other trauma-informed treatment modalities. Dr. Siders has been certified as an expert witness for the Department of Justice and provides trainings and consultation in the areas of complex trauma\, substance abuse\, assessment\, and trauma-informed practice. She is also an adjunct faculty for Western Michigan University. \nRegister online
URL:https://minnesotachildrensalliance.org/training/trauma-informed-law-enforcement-challenges-and-successes-with-implementation-part-two/
LOCATION:Online Webinar
CATEGORIES:Online Webinar,Trauma-Informed Practice
ATTACH;FMTTYPE=image/png:https://minnesotachildrensalliance.org/wp-content/uploads/2019/04/2019Large_Trauma.png
END:VEVENT
BEGIN:VEVENT
DTSTART;TZID=America/Chicago:20190530T130000
DTEND;TZID=America/Chicago:20190530T143000
DTSTAMP:20260422T161836
CREATED:20190415T185640Z
LAST-MODIFIED:20190415T204510Z
UID:10000171-1559221200-1559226600@minnesotachildrensalliance.org
SUMMARY:Trauma Informed Law Enforcement: Challenges and Successes with Implementation – Part One
DESCRIPTION:Brief Overview\nThis presentation will focus on how Dr. Siders\, with staff from the Traverse Bay Children’s Advocacy Center\, worked to design and implement trauma-informed trainings with law enforcement partners. Additionally\, the work and challenges related to supporting law enforcement in being more open to a trauma-informed lens when discussing clients and families in teams meeting for forensic interviews and case review meetings will be discussed. An overview of essential components and stages of the training will be reviewed as well as the challenges encountered in implementing the program. An opportunity for discussion and reference materials will be provided to generate ideas on how to develop the programming in other communities. \nExpert Presenter\nAmelia Siders\, PhD\, is the Clinical Director of the Traverse Bay Children’s Advocacy Center. She is a Licensed Psychologist who has been providing treatment for survivors of abuse\, neglect\, and witness to violence for over 20 years. She is trained in TF-CBT\, EMDR\, and several other trauma-informed treatment modalities. Dr. Siders has been certified as an expert witness for the Department of Justice and provides trainings and consultation in the areas of complex trauma\, substance abuse\, assessment\, and trauma-informed practice. She is also an adjunct faculty for Western Michigan University. \nRegister online
URL:https://minnesotachildrensalliance.org/training/trauma-informed-law-enforcement-challenges-and-successes-with-implementation-part-one/
LOCATION:Online Webinar
CATEGORIES:Online Webinar,Trauma-Informed Practice
ATTACH;FMTTYPE=image/png:https://minnesotachildrensalliance.org/wp-content/uploads/2019/04/2019Large_Trauma.png
END:VEVENT
END:VCALENDAR