BEGIN:VCALENDAR
VERSION:2.0
PRODID:-//Minnesota Children&#039;s Alliance - ECPv6.15.17.1//NONSGML v1.0//EN
CALSCALE:GREGORIAN
METHOD:PUBLISH
X-ORIGINAL-URL:https://minnesotachildrensalliance.org
X-WR-CALDESC:Events for Minnesota Children&#039;s Alliance
REFRESH-INTERVAL;VALUE=DURATION:PT1H
X-Robots-Tag:noindex
X-PUBLISHED-TTL:PT1H
BEGIN:VTIMEZONE
TZID:America/Chicago
BEGIN:DAYLIGHT
TZOFFSETFROM:-0600
TZOFFSETTO:-0500
TZNAME:CDT
DTSTART:20240310T080000
END:DAYLIGHT
BEGIN:STANDARD
TZOFFSETFROM:-0500
TZOFFSETTO:-0600
TZNAME:CST
DTSTART:20241103T070000
END:STANDARD
BEGIN:DAYLIGHT
TZOFFSETFROM:-0600
TZOFFSETTO:-0500
TZNAME:CDT
DTSTART:20250309T080000
END:DAYLIGHT
BEGIN:STANDARD
TZOFFSETFROM:-0500
TZOFFSETTO:-0600
TZNAME:CST
DTSTART:20251102T070000
END:STANDARD
BEGIN:DAYLIGHT
TZOFFSETFROM:-0600
TZOFFSETTO:-0500
TZNAME:CDT
DTSTART:20260308T080000
END:DAYLIGHT
BEGIN:STANDARD
TZOFFSETFROM:-0500
TZOFFSETTO:-0600
TZNAME:CST
DTSTART:20261101T070000
END:STANDARD
END:VTIMEZONE
BEGIN:VEVENT
DTSTART;VALUE=DATE:20250708
DTEND;VALUE=DATE:20250712
DTSTAMP:20260420T200228
CREATED:20250527T192934Z
LAST-MODIFIED:20250527T192934Z
UID:10001163-1751932800-1752278399@minnesotachildrensalliance.org
SUMMARY:NCJTC | Conducting Unexplained Child Death Investigations
DESCRIPTION:Training Overview\nLearn how to objectively investigate child death cases particularly when the cause and manner of death is unexplained. Examine investigative mindset from initial call-out to case resolution and learn how to gain an understanding of what happens with a victim-centered approach\, exploring the emotional trauma of the non-offending caregiver. Discuss possible causes of death and best practices and tips including various investigative steps for evidence collection\, witness and suspect interviews. This basic course offers law enforcement\, CPS\, and other child death investigators up-to-date practices for the investigation of child deaths. \nLearning Objectives\n\nDefine various causes of child deaths\nIdentify potential response situations and scene protection issues\nDescribe investigative equipment and resources needed for quality child death investigations\nUnderstand the impact of child development on child death histories\nDescribe the difference between legal and medicolegal\nIdentify investigator steps in evidence identification\, collection and documentation\nDiscuss prosecution and resolution issues related to investigations of unexplained child deaths\n\nRegister Through NCJTC\n*Register by Tuesday\, June 24\, 2025
URL:https://minnesotachildrensalliance.org/training/ncjtc-conducting-unexplained-child-death-investigations/
LOCATION:Pasco Sheriff’s Office FIRST Innovation Building\, 10370 Charles Bo Harrison Way\, Land O' Lakes\, FL\, 34637\, United States
CATEGORIES:Advocacy,Children's Advocacy Centers,Forensic Interview,Investigation,Medical,Mental Health,Multidisciplinary teams,Online Webinar,Technology
ORGANIZER;CN="National Criminal Justice Training Center Fox Valley Technical College":MAILTO:info@ncjtc.org
END:VEVENT
END:VCALENDAR