BEGIN:VCALENDAR
VERSION:2.0
PRODID:-//Minnesota Children&#039;s Alliance - ECPv6.15.17.1//NONSGML v1.0//EN
CALSCALE:GREGORIAN
METHOD:PUBLISH
X-ORIGINAL-URL:https://minnesotachildrensalliance.org
X-WR-CALDESC:Events for Minnesota Children&#039;s Alliance
REFRESH-INTERVAL;VALUE=DURATION:PT1H
X-Robots-Tag:noindex
X-PUBLISHED-TTL:PT1H
BEGIN:VTIMEZONE
TZID:America/Chicago
BEGIN:DAYLIGHT
TZOFFSETFROM:-0600
TZOFFSETTO:-0500
TZNAME:CDT
DTSTART:20230312T080000
END:DAYLIGHT
BEGIN:STANDARD
TZOFFSETFROM:-0500
TZOFFSETTO:-0600
TZNAME:CST
DTSTART:20231105T070000
END:STANDARD
BEGIN:DAYLIGHT
TZOFFSETFROM:-0600
TZOFFSETTO:-0500
TZNAME:CDT
DTSTART:20240310T080000
END:DAYLIGHT
BEGIN:STANDARD
TZOFFSETFROM:-0500
TZOFFSETTO:-0600
TZNAME:CST
DTSTART:20241103T070000
END:STANDARD
BEGIN:DAYLIGHT
TZOFFSETFROM:-0600
TZOFFSETTO:-0500
TZNAME:CDT
DTSTART:20250309T080000
END:DAYLIGHT
BEGIN:STANDARD
TZOFFSETFROM:-0500
TZOFFSETTO:-0600
TZNAME:CST
DTSTART:20251102T070000
END:STANDARD
END:VTIMEZONE
BEGIN:VEVENT
DTSTART;VALUE=DATE:20240415
DTEND;VALUE=DATE:20240419
DTSTAMP:20260425T113228
CREATED:20231127T170658Z
LAST-MODIFIED:20231127T170708Z
UID:10000592-1713139200-1713484799@minnesotachildrensalliance.org
SUMMARY:Multidisciplinary Team Response to Child Sex Trafficking
DESCRIPTION:Training Overview\nThe National Criminal Justice Training Center of Fox Valley Technical College (NCJTC) is presenting a training opportunity for professionals in the field of: community corrections officer\, court system personnel\, emergency management\, law enforcement/support\, prosecutors\, social workers\, tribes/tribal partners\, and victims service providers. \nImprove multidisciplinary team (MDT) responses to child sex trafficking cases. Gather information about improving or establishing a formal MDT in your community. Identify gaps and develop short and long- term response plans with the help of subject matter experts. To attend this training\, you must be part of a multidisciplinary team and your team members must attend with you\, from a minimum of 5 to a maximum of 10. Each team member should register individually. To make your team easily identifiable\, all team members should use the same name for their team leader during the registration process. If you need assistance in building your team\, please contact our office at the number/email below. \nThis 3.5 day team-based training will guide existing Multidisciplinary Teams (MDT) to improve their response to Child Sex Trafficking (CST)\, as well as assist those who seek to establish a formal MDT in their communities to more effectively respond to CST cases. Subject matter experts will work with teams to identify gaps and develop short and long-term response plans. \nUpon completion of this training\, you will be able: \n\nDifferentiate between responses to traditional child abuse and child sex trafficking cases\nUtilize the components of an effective MDT for child sex trafficking\nRecognize and locate youth at risk victimization\nCreate a plan that encompasses strengths\, challenges and a direction for your MDT response to child sex trafficking\n\nTo attend this training\, you must be part of a multidisciplinary team and your team members must attend with you\, from a minimum of 5 to a maximum of 10. Each team member should register individually. To make your team easily identifiable\, all team members should use the same name for their team leader during the registration process. If you need assistance in building your team\, please contact our office at the number/email below. \nAttendance at a course such as System Response to High Risk Victims-Child Sex Trafficking (HRV CST) or Investigative Strategies in Child Abduction Cases (ISCAC)\, or have a working knowledge of child sex trafficking is highly recommended. \n\nRegister through NCJTC\nRegister by March 1\, 2024 \nThere is NO FEE to attend this training. Tuition\, student materials\, and instructional costs are provided by the Missing and Exploited Children Training and Technical Assistance Program. Additionally\, the cost of lodging for non-federal attendees will also be covered for the nights of March 24\, 25\, 26 and 27. Lodging arrangements will be made by MEC Training and TA. \nAttendees will be responsible for their own travel\, food\, parking and ancillary expenses associated with attending this training.
URL:https://minnesotachildrensalliance.org/training/multidisciplinary-team-response-to-child-sex-trafficking-3/
LOCATION:Providence\, RI\, Providence\, RI\, United States
ORGANIZER;CN="National Criminal Justice Training Center Fox Valley Technical College":MAILTO:info@ncjtc.org
END:VEVENT
BEGIN:VEVENT
DTSTART;VALUE=DATE:20240325
DTEND;VALUE=DATE:20240329
DTSTAMP:20260425T113228
CREATED:20231127T164319Z
LAST-MODIFIED:20231127T164319Z
UID:10000579-1711324800-1711670399@minnesotachildrensalliance.org
SUMMARY:Multidisciplinary Team Response to Child Sex Trafficking
DESCRIPTION:Training Overview\nThe National Criminal Justice Training Center of Fox Valley Technical College (NCJTC) is presenting a training opportunity for professionals in the field of: community corrections officer\, court system personnel\, emergency management\, law enforcement/support\, prosecutors\, social workers\, tribes/tribal partners\, and victims service providers. \nImprove multidisciplinary team (MDT) responses to child sex trafficking cases. Gather information about improving or establishing a formal MDT in your community. Identify gaps and develop short and long- term response plans with the help of subject matter experts. To attend this training\, you must be part of a multidisciplinary team and your team members must attend with you\, from a minimum of 5 to a maximum of 10. Each team member should register individually. To make your team easily identifiable\, all team members should use the same name for their team leader during the registration process. If you need assistance in building your team\, please contact our office at the number/email below. \nThis 3.5 day team-based training will guide existing Multidisciplinary Teams (MDT) to improve their response to Child Sex Trafficking (CST)\, as well as assist those who seek to establish a formal MDT in their communities to more effectively respond to CST cases. Subject matter experts will work with teams to identify gaps and develop short and long-term response plans. \nUpon completion of this training\, you will be able: \n\nDifferentiate between responses to traditional child abuse and child sex trafficking cases\nUtilize the components of an effective MDT for child sex trafficking\nRecognize and locate youth at risk victimization\nCreate a plan that encompasses strengths\, challenges and a direction for your MDT response to child sex trafficking\n\nTo attend this training\, you must be part of a multidisciplinary team and your team members must attend with you\, from a minimum of 5 to a maximum of 10. Each team member should register individually. To make your team easily identifiable\, all team members should use the same name for their team leader during the registration process. If you need assistance in building your team\, please contact our office at the number/email below. \nAttendance at a course such as System Response to High Risk Victims-Child Sex Trafficking (HRV CST) or Investigative Strategies in Child Abduction Cases (ISCAC)\, or have a working knowledge of child sex trafficking is highly recommended. \n\nRegister through NCJTC\nRegister by February 9\, 2024 \nThere is NO FEE to attend this training. Tuition\, student materials\, and instructional costs are provided by the Missing and Exploited Children Training and Technical Assistance Program. Additionally\, the cost of lodging for non-federal attendees will also be covered for the nights of March 24\, 25\, 26 and 27. Lodging arrangements will be made by MEC Training and TA. \nAttendees will be responsible for their own travel\, food\, parking and ancillary expenses associated with attending this training.
URL:https://minnesotachildrensalliance.org/training/multidisciplinary-team-response-to-child-sex-trafficking-2/
LOCATION:Providence\, RI\, Providence\, RI\, United States
ORGANIZER;CN="National Criminal Justice Training Center Fox Valley Technical College":MAILTO:info@ncjtc.org
END:VEVENT
END:VCALENDAR