BEGIN:VCALENDAR
VERSION:2.0
PRODID:-//Minnesota Children&#039;s Alliance - ECPv6.15.17.1//NONSGML v1.0//EN
CALSCALE:GREGORIAN
METHOD:PUBLISH
X-ORIGINAL-URL:https://minnesotachildrensalliance.org
X-WR-CALDESC:Events for Minnesota Children&#039;s Alliance
REFRESH-INTERVAL;VALUE=DURATION:PT1H
X-Robots-Tag:noindex
X-PUBLISHED-TTL:PT1H
BEGIN:VTIMEZONE
TZID:America/Chicago
BEGIN:DAYLIGHT
TZOFFSETFROM:-0600
TZOFFSETTO:-0500
TZNAME:CDT
DTSTART:20240310T080000
END:DAYLIGHT
BEGIN:STANDARD
TZOFFSETFROM:-0500
TZOFFSETTO:-0600
TZNAME:CST
DTSTART:20241103T070000
END:STANDARD
BEGIN:DAYLIGHT
TZOFFSETFROM:-0600
TZOFFSETTO:-0500
TZNAME:CDT
DTSTART:20250309T080000
END:DAYLIGHT
BEGIN:STANDARD
TZOFFSETFROM:-0500
TZOFFSETTO:-0600
TZNAME:CST
DTSTART:20251102T070000
END:STANDARD
BEGIN:DAYLIGHT
TZOFFSETFROM:-0600
TZOFFSETTO:-0500
TZNAME:CDT
DTSTART:20260308T080000
END:DAYLIGHT
BEGIN:STANDARD
TZOFFSETFROM:-0500
TZOFFSETTO:-0600
TZNAME:CST
DTSTART:20261101T070000
END:STANDARD
END:VTIMEZONE
BEGIN:VEVENT
DTSTART;VALUE=DATE:20250227
DTEND;VALUE=DATE:20250301
DTSTAMP:20260420T174107
CREATED:20241223T185731Z
LAST-MODIFIED:20241223T185731Z
UID:10001015-1740614400-1740787199@minnesotachildrensalliance.org
SUMMARY:NCJTC Current Drug Trends
DESCRIPTION:Training Overview\nThe opioid crisis and the flood of other drugs has reached epidemic proportion in many of our communities. Join us to learn more about this national challenge and other emerging drug trends such as fentanyl\, heroin\, cocaine\, methamphetamines\, synthetic cannabinoids\, and other chemicals. Explore the issues associated with the legalization of marijuana in many states and vaping\, butane hash oil\, and cannabis edibles. Gain an understanding of the stages of use\, addiction\, withdrawal symptoms\, and the health and life-threatening dangers posed from the use of drugs. Discuss common delivery systems and observe examples of emerging drugs in various forms. Learn how to recognize the signs and symptoms of drug usage\, as well as how Naloxone/Narcan works in cases of opioid overdoses. \nLearning Objectives\n\nExplain drug abuse and recognition systems\nIdentify signs and symptoms of an individual under the influence\nDescribe the impact of various drug combinations\nExplain the physiology of drug abuse\nRecognize current drug trends\n\nRegister Through NCJTC\nThis training may be available for tribal members or tribal agency employees through grant funds. Prior to registering for this training\, please contact info@ncjtc.org to inquire about this potential opportunity. \nThe registration fee includes 16 hours of training\, program materials\, and instructional costs. Participants are responsible for costs and arrangements related to meals\, travel\, and lodging.
URL:https://minnesotachildrensalliance.org/training/ncjtc-current-drug-trends/
LOCATION:The Brown Hotel\, 335 West Broadway\, Louiseville\, KY\, 40202\, United States
ORGANIZER;CN="National Criminal Justice Training Center Fox Valley Technical College":MAILTO:info@ncjtc.org
END:VEVENT
BEGIN:VEVENT
DTSTART;VALUE=DATE:20250226
DTEND;VALUE=DATE:20250227
DTSTAMP:20260420T174107
CREATED:20241223T184336Z
LAST-MODIFIED:20241223T184528Z
UID:10001014-1740528000-1740614399@minnesotachildrensalliance.org
SUMMARY:NCJTC Verbal De-Escalation and Conflict Resolution
DESCRIPTION:Training Overview\nAvoid potential conflict both professionally and personally by learning to organize your thinking and respond calmly. Consider the approaches you can take to prevent and respond to verbal conflict. This course will explore the communication process\, conflict prevention\, and help you understand why conflicts occur. Instruction will also cover certain circumstances in which verbal de-escalation techniques may not be appropriate\, and provide techniques to resolve such conflicts. Join us to learn how de-escalation techniques and communication skills can potentially defuse tense situations and lead to more successful outcomes. This training does not cover physical intervention techniques. \nLearning Objectives \n\nLeverage verbal and nonverbal approaches to improve service outcomes\nConsider and apply techniques when facing those who are emotionally charged or suffering from some form of crisis\nDemonstrate active listening skills to be best communicate and empathize with those in conflict\n\nRegister Through NCJTC
URL:https://minnesotachildrensalliance.org/training/ncjtc-verbal-de-escalation-and-conflict-resolution-3/
LOCATION:The Brown Hotel\, 335 West Broadway\, Louiseville\, KY\, 40202\, United States
CATEGORIES:Advocacy,Children's Advocacy Centers,Forensic Interview,Investigation,Medical,Mental Health,Multidisciplinary teams,Online Webinar
ORGANIZER;CN="National Criminal Justice Training Center Fox Valley Technical College":MAILTO:info@ncjtc.org
END:VEVENT
END:VCALENDAR