BEGIN:VCALENDAR
VERSION:2.0
PRODID:-//Minnesota Children&#039;s Alliance - ECPv6.15.17.1//NONSGML v1.0//EN
CALSCALE:GREGORIAN
METHOD:PUBLISH
X-ORIGINAL-URL:https://minnesotachildrensalliance.org
X-WR-CALDESC:Events for Minnesota Children&#039;s Alliance
REFRESH-INTERVAL;VALUE=DURATION:PT1H
X-Robots-Tag:noindex
X-PUBLISHED-TTL:PT1H
BEGIN:VTIMEZONE
TZID:America/Chicago
BEGIN:DAYLIGHT
TZOFFSETFROM:-0600
TZOFFSETTO:-0500
TZNAME:CDT
DTSTART:20240310T080000
END:DAYLIGHT
BEGIN:STANDARD
TZOFFSETFROM:-0500
TZOFFSETTO:-0600
TZNAME:CST
DTSTART:20241103T070000
END:STANDARD
BEGIN:DAYLIGHT
TZOFFSETFROM:-0600
TZOFFSETTO:-0500
TZNAME:CDT
DTSTART:20250309T080000
END:DAYLIGHT
BEGIN:STANDARD
TZOFFSETFROM:-0500
TZOFFSETTO:-0600
TZNAME:CST
DTSTART:20251102T070000
END:STANDARD
BEGIN:DAYLIGHT
TZOFFSETFROM:-0600
TZOFFSETTO:-0500
TZNAME:CDT
DTSTART:20260308T080000
END:DAYLIGHT
BEGIN:STANDARD
TZOFFSETFROM:-0500
TZOFFSETTO:-0600
TZNAME:CST
DTSTART:20261101T070000
END:STANDARD
END:VTIMEZONE
BEGIN:VEVENT
DTSTART;VALUE=DATE:20250515
DTEND;VALUE=DATE:20250517
DTSTAMP:20260423T042007
CREATED:20250331T210818Z
LAST-MODIFIED:20250331T210818Z
UID:10001134-1747267200-1747439999@minnesotachildrensalliance.org
SUMMARY:NCJCT Presenting Evidence in Child Forensic Interviews
DESCRIPTION:Training Overview\nExplore how different types of evidence can be used in forensic interviews of children in abuse\, witnessing violence and exploitation cases. Learn how to present different types of evidence in the context of a child-centered\, trauma-informed\, and legally defendable forensic interview approach. Discuss the implications of presenting child sexual abuse material (CSAM). Practice techniques and develop skills to present different types of evidence in child forensic interviews. This training is designed for trained forensic interviewers and law enforcement. \nLearning Objectives\n\nUnderstand how different types of evidence can be used in forensic interviews of children in abuse\, witnessing violence and exploitation cases\nPresent different types of evidence in the context of a child-centered\, trauma-informed\, and legally defendable forensic interview\n\nPrerequisite\n\nHave completed an NCA approved 5 day basic Forensic Interview course or its equivalent\nBe regularly conducting Forensic Interviews in your current role\n\nRegister Through NCJTC\n*Register By Friday\, April 25\, 2025
URL:https://minnesotachildrensalliance.org/training/ncjct-presenting-evidence-in-child-forensic-interviews/
LOCATION:Wayne County Department of Social Services\, 77 Water Street\, Lyons\, NY\, 14489\, United States
CATEGORIES:Advocacy,Children's Advocacy Centers,Forensic Interview,Multidisciplinary teams
ORGANIZER;CN="National Criminal Justice Training Center Fox Valley Technical College":MAILTO:info@ncjtc.org
END:VEVENT
END:VCALENDAR